BEGIN:VCALENDAR
VERSION:2.0
PRODID:-//Gateway Theater - ECPv6.15.18//NONSGML v1.0//EN
CALSCALE:GREGORIAN
METHOD:PUBLISH
X-WR-CALNAME:Gateway Theater
X-ORIGINAL-URL:https://gatewaytheater.org
X-WR-CALDESC:Events for Gateway Theater
REFRESH-INTERVAL;VALUE=DURATION:PT1H
X-Robots-Tag:noindex
X-PUBLISHED-TTL:PT1H
BEGIN:VTIMEZONE
TZID:America/Chicago
BEGIN:DAYLIGHT
TZOFFSETFROM:-0600
TZOFFSETTO:-0500
TZNAME:CDT
DTSTART:20250309T080000
END:DAYLIGHT
BEGIN:STANDARD
TZOFFSETFROM:-0500
TZOFFSETTO:-0600
TZNAME:CST
DTSTART:20251102T070000
END:STANDARD
BEGIN:DAYLIGHT
TZOFFSETFROM:-0600
TZOFFSETTO:-0500
TZNAME:CDT
DTSTART:20260308T080000
END:DAYLIGHT
BEGIN:STANDARD
TZOFFSETFROM:-0500
TZOFFSETTO:-0600
TZNAME:CST
DTSTART:20261101T070000
END:STANDARD
BEGIN:DAYLIGHT
TZOFFSETFROM:-0600
TZOFFSETTO:-0500
TZNAME:CDT
DTSTART:20270314T080000
END:DAYLIGHT
BEGIN:STANDARD
TZOFFSETFROM:-0500
TZOFFSETTO:-0600
TZNAME:CST
DTSTART:20271107T070000
END:STANDARD
END:VTIMEZONE
BEGIN:VEVENT
DTSTART;TZID=America/Chicago:20260603T183000
DTEND;TZID=America/Chicago:20260603T183000
DTSTAMP:20260421T193851
CREATED:20260313T151016Z
LAST-MODIFIED:20260313T151037Z
UID:10000187-1780511400-1780511400@gatewaytheater.org
SUMMARY:GATEWAY LOUNGE | GATEWAY SOCIAL DANCERS
DESCRIPTION:Gateway Social Dancers | $10 at the Door \nJoin us every weekly (days subject to change) at the Gateway Lounge for an open\, welcoming night of social dancing for everyone. The Gateway Social Dancers (Formerly the White Eagle Dancers) bring together a fun mix of oldies\, line dancing\, country\, swing\, and more\, all spun by a DJ to keep the floor moving all night. \nWhether you’re an experienced dancer or just looking to have fun\, this is a relaxed\, friendly atmosphere where all are welcome—come solo or bring friends. \nNo pressure. No lessons required. Just great music\, good people\, and a full dance floor.
URL:https://gatewaytheater.org/event/gateway-lounge-gateway-social-dancers-15/
CATEGORIES:dance
ATTACH;FMTTYPE=image/jpeg:https://gatewaytheater.org/wp-content/uploads/2026/01/IMG_1724-scaled-1.jpeg
END:VEVENT
BEGIN:VEVENT
DTSTART;TZID=America/Chicago:20260610T090000
DTEND;TZID=America/Chicago:20260610T170000
DTSTAMP:20260421T193851
CREATED:20260402T170339Z
LAST-MODIFIED:20260402T170339Z
UID:10000208-1781082000-1781110800@gatewaytheater.org
SUMMARY:GATEWAY LOUNGE | Life Line Screening
DESCRIPTION:Life Line Screening \n► DATE: Wednesday\, June 10\, 2026 | TIME:  9:00 a.m. –  5:00 p.m. \n► Gateway Lounge \nWe have great news! Copernicus Center will be hosting a Life Line Screening event on 3/11/2026. Life Line Screening is the premier provider of stroke and cardiovascular disease risk screenings since 1993. Life Line Screening is extending a discounted offer to members which will identify your risk level for the following diseases:\n1. Carotid Artery Disease\n2. Peripheral Arterial Disease\n3. Abdominal Aortic Aneurysm\n4. Atrial Fibrillation \nGo to Life Line Screening or call 800-324-9458 to schedule your appointment! A simple screening can be worth a lifetime.
URL:https://gatewaytheater.org/event/gateway-lounge-life-line-screening-2/
CATEGORIES:Workshops & Panels
ATTACH;FMTTYPE=image/jpeg:https://gatewaytheater.org/wp-content/uploads/2026/04/Social-Media-post-.jpg
END:VEVENT
BEGIN:VEVENT
DTSTART;TZID=America/Chicago:20260610T183000
DTEND;TZID=America/Chicago:20260610T183000
DTSTAMP:20260421T193851
CREATED:20260313T151204Z
LAST-MODIFIED:20260313T151211Z
UID:10000188-1781116200-1781116200@gatewaytheater.org
SUMMARY:GATEWAY LOUNGE | GATEWAY SOCIAL DANCERS
DESCRIPTION:Gateway Social Dancers | $10 at the Door \nJoin us every weekly (days subject to change) at the Gateway Lounge for an open\, welcoming night of social dancing for everyone. The Gateway Social Dancers (Formerly the White Eagle Dancers) bring together a fun mix of oldies\, line dancing\, country\, swing\, and more\, all spun by a DJ to keep the floor moving all night. \nWhether you’re an experienced dancer or just looking to have fun\, this is a relaxed\, friendly atmosphere where all are welcome—come solo or bring friends. \nNo pressure. No lessons required. Just great music\, good people\, and a full dance floor.
URL:https://gatewaytheater.org/event/gateway-lounge-gateway-social-dancers-16/
CATEGORIES:dance
ATTACH;FMTTYPE=image/jpeg:https://gatewaytheater.org/wp-content/uploads/2026/01/IMG_1724-scaled-1.jpeg
END:VEVENT
BEGIN:VEVENT
DTSTART;TZID=America/Chicago:20260613T210000
DTEND;TZID=America/Chicago:20260613T210000
DTSTAMP:20260421T193851
CREATED:20260402T165340Z
LAST-MODIFIED:20260402T165407Z
UID:10000207-1781384400-1781384400@gatewaytheater.org
SUMMARY:Los Acosta
DESCRIPTION:Los Acosta in the Gateway Theater \n► DATE:  Saturday\, June 13th\, 2026 \n► Doors Open:  7:00 p.m. | Show: 9:00 p.m. \n► Age 21+ \n \nIMPORTANT:\nTickets are exclusively available online.
URL:https://gatewaytheater.org/event/los-acosta/
CATEGORIES:Concerts
ATTACH;FMTTYPE=image/jpeg:https://gatewaytheater.org/wp-content/uploads/2026/04/IMG_3516.jpeg
END:VEVENT
BEGIN:VEVENT
DTSTART;TZID=America/Chicago:20260617T183000
DTEND;TZID=America/Chicago:20260617T183000
DTSTAMP:20260421T193851
CREATED:20260313T151303Z
LAST-MODIFIED:20260313T151310Z
UID:10000189-1781721000-1781721000@gatewaytheater.org
SUMMARY:GATEWAY LOUNGE | GATEWAY SOCIAL DANCERS
DESCRIPTION:Gateway Social Dancers | $10 at the Door \nJoin us every weekly (days subject to change) at the Gateway Lounge for an open\, welcoming night of social dancing for everyone. The Gateway Social Dancers (Formerly the White Eagle Dancers) bring together a fun mix of oldies\, line dancing\, country\, swing\, and more\, all spun by a DJ to keep the floor moving all night. \nWhether you’re an experienced dancer or just looking to have fun\, this is a relaxed\, friendly atmosphere where all are welcome—come solo or bring friends. \nNo pressure. No lessons required. Just great music\, good people\, and a full dance floor.
URL:https://gatewaytheater.org/event/gateway-lounge-gateway-social-dancers-17/
CATEGORIES:dance
ATTACH;FMTTYPE=image/jpeg:https://gatewaytheater.org/wp-content/uploads/2026/01/IMG_1724-scaled-1.jpeg
END:VEVENT
BEGIN:VEVENT
DTSTART;TZID=America/Chicago:20260624T180000
DTEND;TZID=America/Chicago:20260624T180000
DTSTAMP:20260421T193851
CREATED:20260220T181846Z
LAST-MODIFIED:20260417T194101Z
UID:10000167-1782324000-1782324000@gatewaytheater.org
SUMMARY:GATEWAY LOUNGE | Teresa Trull and Barbara Higbie: Reunion\, Pride & CD Release. Opening act Jeannie Tanner.
DESCRIPTION:DATE:  Wednesday\, June 24th\, 2026  \n TIME:  6:00 p.m. \nDoors Open 5:00 p.m. \nAll ages welcome \n\n\n\n\n\n\n\n\n\n\n\n\n\n\n\nIMPORTANT:\nTickets are exclusively available online. \n\n\n\n\n\n\n\n\nTickets $35 for early bird\, $40 after May 1 \n\n\n\n\n\n\n\n\nTwo national legends of women’s music return to Chicago for a rare concert. Teresa Trull & Barbara Higbie have been entertaining with their passionate and spirited music for many decades. They will celebrate Reunion\, Pride & their new CD release in time for Pride Week in Chicago. They will be joined by opening act\, Chicago’s own musical legend\, Jeannie Tanner. All at the beautiful and intimate Gateway Lounge at Copernicus Center on Chicago’s Northwest Side. The venue is wheelchair accessible. There will be sign language interpreters. Tickets $35 for early bird\, $40 after May 1. A limited number of higher-priced tickets available to include a post-show dinner with the artists. Tickets at Goldenrod Records https: tinyurl.com/HigbieTrull. All proceeds benefit Trull’s family medical expenses.
URL:https://gatewaytheater.org/event/teresa-trull-and-barbara-higbie-reunion-pride-cd-release-opening-act-jeannie-tanner/
CATEGORIES:Concerts
ATTACH;FMTTYPE=image/jpeg:https://gatewaytheater.org/wp-content/uploads/2026/02/teresa.jpg
END:VEVENT
BEGIN:VEVENT
DTSTART;TZID=America/Chicago:20260624T183000
DTEND;TZID=America/Chicago:20260624T183000
DTSTAMP:20260421T193851
CREATED:20260313T151418Z
LAST-MODIFIED:20260402T014227Z
UID:10000190-1782325800-1782325800@gatewaytheater.org
SUMMARY:GATEWAY LOUNGE | GATEWAY SOCIAL DANCERS
DESCRIPTION:Gateway Social Dancers | $10 at the Door \nJoin us every weekly (days subject to change) at the Gateway Lounge for an open\, welcoming night of social dancing for everyone. The Gateway Social Dancers (Formerly the White Eagle Dancers) bring together a fun mix of oldies\, line dancing\, country\, swing\, and more\, all spun by a DJ to keep the floor moving all night. \nWhether you’re an experienced dancer or just looking to have fun\, this is a relaxed\, friendly atmosphere where all are welcome—come solo or bring friends. \nNo pressure. No lessons required. Just great music\, good people\, and a full dance floor.
URL:https://gatewaytheater.org/event/gateway-lounge-gateway-social-dancers-18/
CATEGORIES:dance
ATTACH;FMTTYPE=image/jpeg:https://gatewaytheater.org/wp-content/uploads/2026/01/IMG_1724-scaled-1.jpeg
END:VEVENT
END:VCALENDAR