BEGIN:VCALENDAR
VERSION:2.0
PRODID:-//Gateway Theater - ECPv6.15.18//NONSGML v1.0//EN
CALSCALE:GREGORIAN
METHOD:PUBLISH
X-ORIGINAL-URL:https://gatewaytheater.org
X-WR-CALDESC:Events for Gateway Theater
REFRESH-INTERVAL;VALUE=DURATION:PT1H
X-Robots-Tag:noindex
X-PUBLISHED-TTL:PT1H
BEGIN:VTIMEZONE
TZID:America/Chicago
BEGIN:DAYLIGHT
TZOFFSETFROM:-0600
TZOFFSETTO:-0500
TZNAME:CDT
DTSTART:20240310T080000
END:DAYLIGHT
BEGIN:STANDARD
TZOFFSETFROM:-0500
TZOFFSETTO:-0600
TZNAME:CST
DTSTART:20241103T070000
END:STANDARD
BEGIN:DAYLIGHT
TZOFFSETFROM:-0600
TZOFFSETTO:-0500
TZNAME:CDT
DTSTART:20250309T080000
END:DAYLIGHT
BEGIN:STANDARD
TZOFFSETFROM:-0500
TZOFFSETTO:-0600
TZNAME:CST
DTSTART:20251102T070000
END:STANDARD
BEGIN:DAYLIGHT
TZOFFSETFROM:-0600
TZOFFSETTO:-0500
TZNAME:CDT
DTSTART:20260308T080000
END:DAYLIGHT
BEGIN:STANDARD
TZOFFSETFROM:-0500
TZOFFSETTO:-0600
TZNAME:CST
DTSTART:20261101T070000
END:STANDARD
BEGIN:DAYLIGHT
TZOFFSETFROM:-0600
TZOFFSETTO:-0500
TZNAME:CDT
DTSTART:20270314T080000
END:DAYLIGHT
BEGIN:STANDARD
TZOFFSETFROM:-0500
TZOFFSETTO:-0600
TZNAME:CST
DTSTART:20271107T070000
END:STANDARD
END:VTIMEZONE
BEGIN:VEVENT
DTSTART;TZID=America/Chicago:20251231T173000
DTEND;TZID=America/Chicago:20260101T013000
DTSTAMP:20260421T211946
CREATED:20251122T010634Z
LAST-MODIFIED:20251206T002051Z
UID:10000112-1767202200-1767231000@gatewaytheater.org
SUMMARY:Celebrate New Years Eve with MR Blotto & Terrapin Flyer
DESCRIPTION:NEW YEARS EVE Double Header: MR Blotto & Terrapin Flyer\nPresented by the Copernicus FoundationAll proceeds directly support the nonprofit Copernicus Foundation and its mission to fund performing arts and cultural education across Chicagoland\n$135 VIP Tickets(acoustic sets/open bar/buffet/vip seating)$135 tickets WHILE THEY LAST!\n\nDETAILS: VIP DOORS: 5:30pm | SETS/OPEN BAR/BUFFET: 6PM-9PMGENERAL ADMISSION DOORS: 8PM | 9PM SHOW\nVIP acoustic sets in the gateway lounge: 6PM-8PM\n_____________________________________________________________________________________\n$40 General Admission Tickets\nMain stage: 9pm-10pm – Terrapin Flyer10pm-midnight – Mr BlottoMidnight – 1am – Terrapin Flyer\n \n  \nAboutRing in 2026 inside the historic Gateway Theater at the Copernicus Center with two of Chicago’s legendary jam bands for an unforgettable New Year’s Eve celebration. Experience Mr. Blotto and Terrapin Flyer like never before—inside one of Chicago’s oldest world-class concert venues. This 1930 atmospheric theater provides a one-of-a-kind setting to immerse yourself in their incredible music and celebrate the new year in true Chicago style.
URL:https://gatewaytheater.org/event/new-years-eve-double-header-mr-blotto-terrapin-flyer/
LOCATION:Gateway Theater\, 5216 W. Lawrence Avenue\, Chicago\, IL\, 60630\, United States
CATEGORIES:Concerts
ATTACH;FMTTYPE=image/jpeg:https://gatewaytheater.org/wp-content/uploads/2025/11/MR-Blotto_Terrapin-Homepage-NEW.jpg
END:VEVENT
BEGIN:VEVENT
DTSTART;TZID=America/Chicago:20260107T183000
DTEND;TZID=America/Chicago:20260107T220000
DTSTAMP:20260421T211946
CREATED:20260104T180419Z
LAST-MODIFIED:20260104T181326Z
UID:10000127-1767810600-1767823200@gatewaytheater.org
SUMMARY:LOUNGE | GATEWAY SOCIAL DANCERS
DESCRIPTION:Gateway Social Dancers\nJoin us every weekly (days subject to change) at the Gateway Lounge for an open\, welcoming night of social dancing for everyone. The Gateway Social Dancers (Formerly the White Eagle Dancers) bring together a fun mix of oldies\, line dancing\, country\, swing\, and more\, all spun by a DJ to keep the floor moving all night. \nWhether you’re an experienced dancer or just looking to have fun\, this is a relaxed\, friendly atmosphere where all are welcome—come solo or bring friends. \nNo pressure. No lessons required. Just great music\, good people\, and a full dance floor.
URL:https://gatewaytheater.org/event/gateway-social-dancers/
CATEGORIES:dance
ATTACH;FMTTYPE=image/jpeg:https://gatewaytheater.org/wp-content/uploads/2026/01/IMG_1724-scaled.jpeg
END:VEVENT
BEGIN:VEVENT
DTSTART;TZID=America/Chicago:20260111T180000
DTEND;TZID=America/Chicago:20260111T223000
DTSTAMP:20260421T211946
CREATED:20260104T173955Z
LAST-MODIFIED:20260104T173955Z
UID:10000126-1768154400-1768170600@gatewaytheater.org
SUMMARY:ENEJ – CHICAGO. Kolędy\, Pastorałki i Największe Przeboje.
DESCRIPTION:The New Year is here\, the holiday magic still lingers in the air… and ENEJ is returning across the ocean with a special concert tour! \nThis year\, the band will visit New Jersey\, New York\, and Chicago to share with you the unique and unforgettable Christmas spirit. But that’s just the beginning — joining the caroling will be their highlander friends from Podhale: Szymon Chyc-Magdzin and Jan Trebunia-Tutka. \nSpecial guest performances will also include the “Biedroneczki” Children’s Choir from St. John Brebeuf Parish in Niles\, as well as the Zaradni Highlander Ensemble. \nYou can expect the most beautiful Polish Christmas carols and pastorals\, along with the band’s biggest hits in true ENEJ style — energetic\, moving\, and full of soul! These will be evenings filled with music\, warmth\, memories\, and shared singing — just like at the best holiday table. \nAnd after the concert? As tradition goes: time for photos\, conversations\, and high-fives with the band! \nGive yourself (and your loved ones) the perfect New Year’s gift. \nSee you at the concert!
URL:https://gatewaytheater.org/event/enej-chicago-koledy-pastoralki-i-najwieksze-przeboje/
CATEGORIES:Concerts
ATTACH;FMTTYPE=image/jpeg:https://gatewaytheater.org/wp-content/uploads/2026/01/ENJE-2026.jpg
END:VEVENT
BEGIN:VEVENT
DTSTART;TZID=America/Chicago:20260114T193000
DTEND;TZID=America/Chicago:20260114T223000
DTSTAMP:20260421T211946
CREATED:20251023T172035Z
LAST-MODIFIED:20260104T181251Z
UID:10000110-1768419000-1768429800@gatewaytheater.org
SUMMARY:ONEW the Live: Percent (%) -  2026 TOUR
DESCRIPTION:Onew (Lee Jin-ki)\, born in Gwangmyeong\, South Korea in 1989\, is a K-pop and R&B singer\, actor\, and SHINee’s lead vocalist. Known for solo albums Voice\, Dice\, Circle\, and Percent\, he’s praised for hits like ‘Mad’ and ‘Animals.’ His ONEW tour\, Onew the Live: Percent (%)\, rolls on into 2026.
URL:https://gatewaytheater.org/event/onew/
CATEGORIES:Concerts
ATTACH;FMTTYPE=image/jpeg:https://gatewaytheater.org/wp-content/uploads/2025/10/d878c353-ea15-4207-b53c-6ffd58a40856_EVENT_DETAIL_PAGE_16_9.jpg
END:VEVENT
BEGIN:VEVENT
DTSTART;TZID=America/Chicago:20260118T160000
DTEND;TZID=America/Chicago:20260118T160000
DTSTAMP:20260421T211946
CREATED:20251219T180617Z
LAST-MODIFIED:20260104T182516Z
UID:10000124-1768752000-1768752000@gatewaytheater.org
SUMMARY:I Am the Immaculate Conception – a film screening with the director in attendance.
DESCRIPTION:► DATE: Sunday\, January 18\, 2026 TIME:  4:00 p.m. | GATEWAY THEATER at Copernicus Center Doors Open: 2:30 p.m.   ►  From 13 and up\n\n\n\n\n\n\n\n\n\n\n\n\n\n\n\nTickets: $30 \n\n\n\n\n\n\n\n\n\n\n\n\n\n\n\n\n“I Am the Immaculate Conception” – a screening of the Polish-language version of the film with the director in attendance. (The English-language version was shown in over 1\,000 cinemas across the United States.) \nMost Catholics—and even some clergy—do not fully understand what the Immaculate Conception of Mary truly means\, even though Pope John Paul II said that this mystery contains the synthesis of Christianity. Why does Mary introduce herself in Lourdes with the words\, “I Am the Immaculate Conception”? Why is this so important? \nIn the film\, the creators attempt to answer these challenging questions and\, in a clear and structured way\, explain the essence of who Mary is\, the power of her intercession\, and aspects of Marian devotion that remain unclear to many Christians. \nBy combining the latest digital technology with exceptional set design\, the filmmakers take viewers back 2\,000 years\, allowing them to witness key moments in the lives of Mary and Jesus—such as the Wedding at Cana\, the Last Supper\, and the Crucifixion. Every scene in the film was created based on an in-depth analysis of Sacred Scripture. \nAfter the screening\, the director will personally greet the audience and thank everyone for attending. He will share a few words about himself and the making of the film\, as well as briefly introduce other productions and upcoming projects of the Kolbe Film Foundation. \n“I Am the Immaculate Conception” – a special screening with director Michał Kondrat at the Copernicus Center.\nAll proceeds from ticket sales will be donated in full toward the production of the film Faustina. \n\n\n\n\n\n\n\n\n________________________________________________________________________________________________________________________________\nJa Jestem Niepokalane Poczęcie – pokaz polskiej wersji filmu z udziałem reżysera\n(Wersja anglojęzyczna była grana w ponad 1000 amerykańskich kin). \nWiększość katolików\, a nawet niektórzy duchowni nie rozumieją dobrze o co chodzi z Niepokalanym Poczęciem Maryi\, a przecież Jan Paweł II mówił\, że ta tajemnica skrywa syntezę chrześcijaństwa. Dlaczego Maryja przedstawia się w Lourdes słowami: „Ja Jestem Niepokalane Poczęcie”? Dlaczego jest to aż tak istotne?\nW filmie twórcy starają się odpowiedzieć na te\, jak się okaże niełatwe pytania\, a także w uporządkowany sposób wyjaśniają istotę osoby Maryi\, mocy jej pośrednictwa\, a także wyjaśniają\, rzeczy dotyczące Maryi niezrozumiałe dla wielu chrześcijan.\nDzięki połączeniu najnowszej technologii cyfrowej z wyjątkową scenografią cofają widzów w czasie o 2000 lat\, by pozwolić im uczestniczyć w najważniejszych momentach życia Marii i Jezusa\, takich jak: cud w Kanie Galilejskiej\, Ostatnia Wieczerza czy Ukrzyżowanie. Każda ze scen filmu powstała na podstawie głębokiej analizy Pisma Świętego. \n\n\n\n\nAfter the screening\, the director will personally greet the audience and thank everyone for coming. He will share a few words about himself and the making of the film\, as well as briefly introduce other productions and upcoming projects of the Kolbe Film Foundation.1 \nJa Jestem Niepokalane Poczęcie – specjalny pokaz filmu z udziałem reżysera Michała Kondrata w Copernicus Center.\nDochód z biletów przeznaczony będzie w całości na produkcję filmu Faustyna
URL:https://gatewaytheater.org/event/ja-jestem-niepokalane-poczecie-pokaz-filmu-z-udzialem-rezysera/
CATEGORIES:Film
ATTACH;FMTTYPE=image/jpeg:https://gatewaytheater.org/wp-content/uploads/2025/12/JJNP_Copernicus_1080x1920.jpg
END:VEVENT
BEGIN:VEVENT
DTSTART;TZID=America/Chicago:20260121T180000
DTEND;TZID=America/Chicago:20260121T220000
DTSTAMP:20260421T211946
CREATED:20260120T225106Z
LAST-MODIFIED:20260120T225106Z
UID:10000141-1769018400-1769032800@gatewaytheater.org
SUMMARY:GATEWAY LOUNGE: Chicago Songwriters Night
DESCRIPTION:In collaboration with Recording Academy – Chicago Chapter\, we’re thrilled to present Songwriters Night in Chicago. Songwriters from both organizations will perform original tunes. \nATTEND THE EVENT – FREE\nCLICK HERE
URL:https://gatewaytheater.org/event/gateway-lounge-chicago-songwriters-night/
CATEGORIES:Concerts
ATTACH;FMTTYPE=image/png:https://gatewaytheater.org/wp-content/uploads/2026/01/January-21-2026-Songwriters.png
END:VEVENT
BEGIN:VEVENT
DTSTART;TZID=America/Chicago:20260123T193000
DTEND;TZID=America/Chicago:20260123T213000
DTSTAMP:20260421T211946
CREATED:20260102T233025Z
LAST-MODIFIED:20260122T204003Z
UID:10000125-1769196600-1769203800@gatewaytheater.org
SUMMARY:POSTPONED DUE TO WEATHER - GATEWAY LOUNGE | Jazz Lounge Collection with Celebrated Vocalist Elaine Dame
DESCRIPTION:  \nThe show on January 23\, 2026 – ELAINE DAME at the Gateway Lounge has been postponed due to Dangerous Weather Conditions! We will be announcing a new date in the coming days. \nA Jazz Lounge Collection with Celebrated Vocalist Elaine Dame\n\n“With strong\, pitch-perfect pipes and a stage presence built for Broadway\, Midwest native Dame is a jazz dynamo and continues to be a gem in the city’s vocal jazz scene.”  — Time Out Chicago \n“Dame has risen to the top ranks of Chicago jazz singers.“—Neil Tesser\, author of Playboy Guide to Jazz and Grammy Award-winning jazz journalist \nJoin Elaine for an evening of hip\, soulful\, and swinging vibes. Featuring fresh reimaginings of jazz classics and hidden gems\, Elaine will be supported by an intimate jazz ensemble. \nElaine Dame sings – and people stop and listen. Since 1996\, the woman Time Out Chicago calls “a jazz dynamo” and “a gem in the city’s vocal jazz scene” has been turning heads and capturing attention at venerable jazz venues from coast to coast\, bringing her unique\, superlative interpretations to vintage vocal classics and modern standards alike. Elaine worked for years in Chicago’s theater scene before turning her whole focus to jazz. It’s no wonder the Chicago Reader wrote “Ms. Dame has a winning stage presence and chameleon-like vocal flexibility.” Neil Tesser\, Grammy award-winning jazz critic and author of The Playboy Guide to Jazz said\, “Dame has risen to the top ranks of Chicago jazz singers. She possesses all the musicality you could want in a true jazz vocalist: centered intonation\, an enviable command of rhythm and a translucent but powerful instrument. \n \nABOUT ELAINE DAME\nThe woman Time Out Chicago calls “a jazz dynamo” and “a gem in the city’s vocal jazz scene” has been turning heads and capturing attention at venerable jazz venues from coast to coast\, bringing her unique\, superlative interpretations to vintage vocal classics and modern standards alike. Elaine worked for years in Chicago’s theater scene before turning her whole focus to jazz. It’s no wonder the Chicago Reader wrote “Ms. Dame has a winning stage presence and chameleon-like vocal flexibility.” Neil Tesser\, Grammy award-winning jazz critic and author of The Playboy Guide to Jazz said\, “Dame has risen to the top ranks of Chicago jazz singers. She possesses all the musicality you could want in a true jazz vocalist: centered intonation\, an enviable command of rhythm and a translucent but powerful instrument.”
URL:https://gatewaytheater.org/event/gateway-lounge-jazz-lounge-collection-with-celebrated-vocalist-elaine-dame/
LOCATION:Gateway Lounge\, 5216 W. Lawrence Ave\, Chicago\, 60630\, United States
CATEGORIES:Concerts
ATTACH;FMTTYPE=image/jpeg:https://gatewaytheater.org/wp-content/uploads/2026/01/ELAINE-DAME-400-X-400-.jpg
END:VEVENT
BEGIN:VEVENT
DTSTART;TZID=America/Chicago:20260128T183000
DTEND;TZID=America/Chicago:20260128T220000
DTSTAMP:20260421T211946
CREATED:20251130T203434Z
LAST-MODIFIED:20260104T184637Z
UID:10000120-1769625000-1769637600@gatewaytheater.org
SUMMARY:GATEWAY LOUNGE | GATEWAY SOCIAL DANCERS
DESCRIPTION:Gateway Social Dancers | $10 at the Door\nJoin us every weekly (days subject to change) at the Gateway Lounge for an open\, welcoming night of social dancing for everyone. The Gateway Social Dancers (Formerly the White Eagle Dancers) bring together a fun mix of oldies\, line dancing\, country\, swing\, and more\, all spun by a DJ to keep the floor moving all night. \nWhether you’re an experienced dancer or just looking to have fun\, this is a relaxed\, friendly atmosphere where all are welcome—come solo or bring friends. \nNo pressure. No lessons required. Just great music\, good people\, and a full dance floor.
URL:https://gatewaytheater.org/event/gateway-lounge-gateway-dancers-dance-socialize-and-enjoy-a-fun-night-out-at-the-gateway/
CATEGORIES:dance
ATTACH;FMTTYPE=image/jpeg:https://gatewaytheater.org/wp-content/uploads/2025/11/IMG_1724-scaled.jpeg
END:VEVENT
BEGIN:VEVENT
DTSTART;TZID=America/Chicago:20260130T193000
DTEND;TZID=America/Chicago:20260130T193000
DTSTAMP:20260421T211946
CREATED:20251212T184537Z
LAST-MODIFIED:20260104T181917Z
UID:10000121-1769801400-1769801400@gatewaytheater.org
SUMMARY:GATEWAY LOUNGE | Petra Van Nuis: Music From Film Noir – A Femme Fatale’s Songbook
DESCRIPTION:Music From Film Noir – A Femme Fatale’s Songbook\nVocalist Petra van Nuis with Guitarist Andy Brown’s Trio\nGATEWAY LOUNGE | Friday\, January 30th\, 2026 | 7:30 p.m. GATEWAY LOUNGE Open 6:30 p.m.\nAll ages welcome\nTickets: $25 online |  $30 at door\n\nIn “Music from Film Noir – A Femme Fatale’s Songbook\,” jazz vocalist Petra van Nuis conjures the smoky world of noir through shadowy torch songs featured in films of the genre. Backed by guitarist Andy Brown’s trio\, Petra invites audiences on a cinematic journey into a mysterious and seductive world of seedy nightclubs\, dangerous romances\, and streets glistening with midnight rain.www. Petrasings.com\n \n\n\n\n\n\n\n\n\n\n \n\n\n\n\n\n\n\n\n\n\n\n\n\n\n\n\n\n\n\n\n\n\n\n\n\n\n\n\n\n\nwww. Petrasings.com\n\n\n\n\n\n\n\n\n\n\n\n\n\n\nEVENT ORGANIZER: GATEWAY THEATER & LOUNGE
URL:https://gatewaytheater.org/event/music-from-film-noir-a-femme-fatales-songbook/
CATEGORIES:Concerts
ATTACH;FMTTYPE=image/jpeg:https://gatewaytheater.org/wp-content/uploads/2025/12/1080X1080.jpg
END:VEVENT
END:VCALENDAR