BEGIN:VCALENDAR
VERSION:2.0
PRODID:-//Gateway Theater - ECPv6.15.18//NONSGML v1.0//EN
CALSCALE:GREGORIAN
METHOD:PUBLISH
X-WR-CALNAME:Gateway Theater
X-ORIGINAL-URL:https://gatewaytheater.org
X-WR-CALDESC:Events for Gateway Theater
REFRESH-INTERVAL;VALUE=DURATION:PT1H
X-Robots-Tag:noindex
X-PUBLISHED-TTL:PT1H
BEGIN:VTIMEZONE
TZID:America/Chicago
BEGIN:DAYLIGHT
TZOFFSETFROM:-0600
TZOFFSETTO:-0500
TZNAME:CDT
DTSTART:20240310T080000
END:DAYLIGHT
BEGIN:STANDARD
TZOFFSETFROM:-0500
TZOFFSETTO:-0600
TZNAME:CST
DTSTART:20241103T070000
END:STANDARD
BEGIN:DAYLIGHT
TZOFFSETFROM:-0600
TZOFFSETTO:-0500
TZNAME:CDT
DTSTART:20250309T080000
END:DAYLIGHT
BEGIN:STANDARD
TZOFFSETFROM:-0500
TZOFFSETTO:-0600
TZNAME:CST
DTSTART:20251102T070000
END:STANDARD
BEGIN:DAYLIGHT
TZOFFSETFROM:-0600
TZOFFSETTO:-0500
TZNAME:CDT
DTSTART:20260308T080000
END:DAYLIGHT
BEGIN:STANDARD
TZOFFSETFROM:-0500
TZOFFSETTO:-0600
TZNAME:CST
DTSTART:20261101T070000
END:STANDARD
END:VTIMEZONE
BEGIN:VEVENT
DTSTART;TZID=America/Chicago:20250829T170000
DTEND;TZID=America/Chicago:20250901T213000
DTSTAMP:20260423T085302
CREATED:20250522T163413Z
LAST-MODIFIED:20250522T163413Z
UID:10000013-1756486800-1756762200@gatewaytheater.org
SUMMARY:Taste of Polonia 2025 - Labor Day Weekend
DESCRIPTION:► DATES: Friday\, Aug. 29th • 5 p.m. to 10:30 p.m.\nSaturday\, Aug. 30th\, • 12 p.m. to 10:30 p.m.\nSunday\, Aug 31st • 12 p.m. to 10:30 p.m.\nMonday\, Sept. 1st\, • 12 p.m. to 9:30 p.m.\n\n►  Copernicus Center – 5216 W. Lawrence Ave. Chicago\, IL. 60630\n►  All ages welcome!\n► Children 12 and under – enter for FREE!\n      \n\n\n\n\n\n\nTaste of Polonia Festival 2025\nCelebrate Polish Culture at Taste of Polonia Festival 2025!\nJoin us for four unforgettable days of music\, food\, and family fun at the Taste of Polonia Festival 2025— the largest celebration of Polish heritage and community spirit in the United States! \nImmerse yourself in an authentic cultural experience featuring nonstop live entertainment\, traditional Polish cuisine and beer\, vibrant dance performances\, cultural exhibitions\, and activities for all ages. Whether you’re exploring the lively Kids Zone\, enjoying local vendors and merchants\, or relaxing with friends to the sound of live music\, there’s something for everyone to enjoy. \nWith over 60 bands and artists performing across three stages\, the festival showcases a dynamic mix of genres—pop\, rock\, latin\, classical\, dance\, alternative\, and\, of course\, lively polka! Don’t miss the centerpiece of the festival\, the historic Copernicus Center Theater Stage\, where you’ll catch spectacular shows by legendary Polish performers\, folk ensembles\, and community dance groups of all ages. \nFestival highlights include:\n\nLive performances across three stages\nAuthentic Polish food & beer\nCultural exhibits & historical displays\nFamily-friendly activities & giveaways\nKids Zone with storytelling\, dance parties\, animated movie screenings\, giveaways & much more\nOutdoor Merchant Row with local and imported goods\nMovie screenings and other indoor activities\nSunday 11:00 AM Catholic Mass on the Theater Stage\n\nFrom traditional tastes to modern tunes\, Taste of Polonia 2025 is your passport to Polish culture in the heart of Chicago. Bring the whole family and celebrate with us—there’s truly something for everyone! \n\n\n\n\n\n\n\n\n\n\n\n          \n\n\n\n\n\n\n\n\n\n\n\nTaste of Polonia has grown to be the country’s largest and oldest Polish Festival\, with over 45\,000 attendees. Make sure you don’t miss out on celebrating Chicago’s favorite ethnic festival!\nSee you all at Taste of Polonia!\nVISIT TOPChicago.Org for more information and schedule
URL:https://gatewaytheater.org/event/taste-of-polonia-2025-labor-day-weekend/
ATTACH;FMTTYPE=image/jpeg:https://gatewaytheater.org/wp-content/uploads/2025/05/image.jpeg
END:VEVENT
BEGIN:VEVENT
DTSTART;TZID=America/Chicago:20250901T053000
DTEND;TZID=America/Chicago:20250901T053000
DTSTAMP:20260423T085302
CREATED:20250522T185001Z
LAST-MODIFIED:20250826T181845Z
UID:10000030-1756704600-1756704600@gatewaytheater.org
SUMMARY:Terrapin Flyer
DESCRIPTION:► DATE:  Monday\, September 1st\, 2025 | TIME: 05:30 p.m.\n\n► Taste of Polonia – Tribute Stage\n► Taste of Polonia Gates Open:  12:00 p.m.  •  All ages welcome\n\n\n\n\n\n\n\n\n\n\n\n\n\nFor the past 25 years Terrapin Flyer has been touring with the finest in the Grateful Dead community of musicians and has become a fixture of the national music scene\, playing regularly at venues around the country and appearing at music festivals. The band has a dedicated following among fans of the Grateful Dead and other jam bands\, and is known for their authentic interpretations of rare and classic Dead songs. Over the years\, Terrapin Flyer has toured with many notable musicians\, including Melvin Seals from the Jerry Garcia Band\, Vince Welnick\, Tom Constanten from the Grateful Dead and many other Dead-related musicians. Overall\, Terrapin Flyer is a talented and highly regarded band that has made a significant impact on the national music scene.
URL:https://gatewaytheater.org/event/terrapin-flyer/
ATTACH;FMTTYPE=image/jpeg:https://gatewaytheater.org/wp-content/uploads/2025/05/terrapin_1080x1920.jpg
END:VEVENT
BEGIN:VEVENT
DTSTART;TZID=America/Chicago:20250901T180000
DTEND;TZID=America/Chicago:20250901T180000
DTSTAMP:20260423T085302
CREATED:20250522T184709Z
LAST-MODIFIED:20250522T184726Z
UID:10000029-1756749600-1756749600@gatewaytheater.org
SUMMARY:VOO VOO
DESCRIPTION:► DATE:  Monday\, September 1st\, 2025 | TIME:  06:00 p.m.\n\n► Taste of Polonia – Theater Stage\n► Taste of Polonia Gates Open:  12:00 p.m.  •  All ages welcome
URL:https://gatewaytheater.org/event/voo-voo-2/
ATTACH;FMTTYPE=image/jpeg:https://gatewaytheater.org/wp-content/uploads/2025/05/voo_1080x1920-1.jpg
END:VEVENT
BEGIN:VEVENT
DTSTART;TZID=America/Chicago:20250901T193000
DTEND;TZID=America/Chicago:20250901T193000
DTSTAMP:20260423T085302
CREATED:20250522T185244Z
LAST-MODIFIED:20250522T185250Z
UID:10000031-1756755000-1756755000@gatewaytheater.org
SUMMARY:Beatles vs. Stones - A Musical Showdown
DESCRIPTION:► DATE:  Monday\, September 1st\, 2025 | TIME: 07:30 p.m.\n\n► Taste of Polonia – Tribute Stage\n► Taste of Polonia Gates Open:  12:00 p.m.  •  All ages welcome\n\n\n\n\n\n\n\n\n\n\n\n\n\nThe British Invasion brought us the two most popular rock groups of all time\, the Beatles and the Rolling Stones\, as well as the liveliest debate in rock history – which band is the greatest? These two legendary bands will engage in an on-stage\, mash-up duel featuring internationally renowned tribute bands\, Abbey Road and Satisfaction – The International Rolling Stones Show.\n“Electrifying show!” said the O.C. Register. \n“The most unique tribute show in decades\,” said the L.A. Times. \n“The crowd was on their feet screaming the entire time!” said the Idaho Statesman. \n“If you missed The Beatles and The Rolling Stones live\, here is your second chance\,” said the San Clemente Times. \nAlternating power sets with the two bands coming together on stage for an amazing encore makes this show a once-in-a-lifetime event.
URL:https://gatewaytheater.org/event/beatles-vs-stones-a-musical-showdown/
ATTACH;FMTTYPE=image/jpeg:https://gatewaytheater.org/wp-content/uploads/2025/05/bvs_1080x1920.jpg
END:VEVENT
BEGIN:VEVENT
DTSTART;TZID=America/Chicago:20250906T183000
DTEND;TZID=America/Chicago:20250906T183000
DTSTAMP:20260423T085302
CREATED:20250701T161859Z
LAST-MODIFIED:20250701T161946Z
UID:10000064-1757183400-1757183400@gatewaytheater.org
SUMMARY:GATEWAY LOUNGE | Salsa Night Featuring Orquesta Sabor
DESCRIPTION:The multi award-winning ensemble\, “Willie Garcia y su Orquesta Sabor”\, is celebrating its 25th anniversary in September\, 2025. This milestone also marks the launch of their new album\, “Fly Me To The Moon – Odysseus”\, which features both new compositions and remastered tracks from their debut album. \nLimited quantities of the CD and the vinyl editions of the album will be available for purchase at the celebration. We appreciate your support and kindly encourage you not to miss the opportunity to obtain a physical copy of this iconic album signed by the artist. \nFor more information on the album\, kindly visit our link at https://www.cassiorecords.com/willie-garcia-bio-eng
URL:https://gatewaytheater.org/event/gateway-lounge-salsa-night-featuring-orquesta-sabor/
CATEGORIES:dance
ATTACH;FMTTYPE=image/jpeg:https://gatewaytheater.org/wp-content/uploads/2025/07/4632e15387a1005eb1298da24ccee141.jpg
END:VEVENT
BEGIN:VEVENT
DTSTART;TZID=America/Chicago:20250906T200000
DTEND;TZID=America/Chicago:20250906T200000
DTSTAMP:20260423T085302
CREATED:20250522T185858Z
LAST-MODIFIED:20250904T160816Z
UID:10000033-1757188800-1757188800@gatewaytheater.org
SUMMARY:CANCELLED | Andres Parra “Venga Que Si Es Pa’Eso” Tour
DESCRIPTION:► DATE:  September 6\, 2025 TIME:  8:00 p.m. | Show end: 10:00 p.m.\n► Copernicus Center Early Entry | 6:00 p.m. Regular Doors 7:00 p.m. •  16+\n► M&G 6:30 (before show)\n\n\n\n\n\n\n\n\n\n\n\nTickets: $49–$89 \n\n\n\n\n\n\n\n\n\nAcerca de… \nEl reconocido actor Andrés Parra presenta una experiencia única de exploración interior y autoconocimiento en una noche llena de humor y emoción. Parra\, conocido por sus interpretaciones memorables en cine y televisión\, se aventura en el mundo del stand-up comedy con su espectáculo ‘Venga que si es pa’ eso’. En este show\, comparte anécdotas hilarantes de su vida\, reflexiones cómicas sobre la sociedad y observaciones agudas sobre la vida cotidiana. \nEl objetivo del espectáculo es enfrentar valientemente miedos y complejos\, asumiendo una perspectiva diferente frente a las insatisfacciones de la vida. Con temas como el encuentro con el silencio\, la soledad y la consciencia\, Parra comparte su propia travesía a través del dolor\, revelando cómo logró convertirlo en un poderoso maestro de transformación.\n‘Venga que si es pa’ eso’ marca un nuevo capítulo en la carrera de Andrés Parra\, quien demuestra su versatilidad como artista al conquistar el mundo del standup comedy con la misma destreza que ha demostrado en sus papeles dramáticos. \n“Mi tránsito a través del miedo paralizante y la forma en que logré finalmente liberarme\, y avanzar hacia una nueva forma de ver la vida. Mi encuentro con el silencio\, la soledad y la consciencia… Somos muchos los que andamos rotos y los que seguimos inconformes con todo. Es un compartir\, un inspirar\, un hacernos saber que no estamos solos en esta lucha interna contra nosotros mismos”\, explicó Andrés Parra. Link (https://www.andresparratour.com)
URL:https://gatewaytheater.org/event/andres-parra-venga-que-si-es-paeso-tour/
CATEGORIES:Concerts
ATTACH;FMTTYPE=image/jpeg:https://gatewaytheater.org/wp-content/uploads/2025/05/sies.jpg
END:VEVENT
BEGIN:VEVENT
DTSTART;TZID=America/Chicago:20250917T090000
DTEND;TZID=America/Chicago:20250917T090000
DTSTAMP:20260423T085302
CREATED:20250904T163233Z
LAST-MODIFIED:20250904T163315Z
UID:10000079-1758099600-1758099600@gatewaytheater.org
SUMMARY:Life Line Screening
DESCRIPTION:Life Line Screening\, Wednesday\, September 17\, 2025\, 9am – 5pm.\nWe have great news! Copernicus Center will be hosting\na Life Line Screening event on 09/17/2025. Life Line Screening\nis the premier provider of stroke and cardiovascular disease risk\nscreenings since 1993. Life Line Screening can help\nidentify your risk level for the following diseases:\n1. Carotid Artery Disease\n2. Peripheral Arterial Disease\n3. Abdominal Aortic Aneurysm\n4. Atrial Fibrillation \nGo to Life Line Screening or call 800-324-9458\nto schedule your appointment! A simple screening can\nbe worth a lifetime.
URL:https://gatewaytheater.org/event/life-line-screening/
CATEGORIES:Workshops & Panels
ATTACH;FMTTYPE=image/jpeg:https://gatewaytheater.org/wp-content/uploads/2025/09/Social-Media-post-2.jpg
END:VEVENT
BEGIN:VEVENT
DTSTART;TZID=America/Chicago:20250920T140000
DTEND;TZID=America/Chicago:20250920T173000
DTSTAMP:20260423T085302
CREATED:20250908T221730Z
LAST-MODIFIED:20250908T222035Z
UID:10000080-1758376800-1758389400@gatewaytheater.org
SUMMARY:Remembering Gwen Pippin
DESCRIPTION:We are the-We-Haven’t-Quit-Our-Day-Job-Yet-Singers. \nThe need to sing is burning inside us\, crazy to get out. So off we go to the OldTownSchool of Folk Music. We take Singing:Performance with Gwen Pippin\, or maybe we’re one of her private students. Three times a year we gather together and sing for friends\, family & each other. \nWe are amateurs and proud of it. Many of us waited till later in life to start singing\, but our desire to sing is so strong that we push through our wall of fear and do it anyway. We have no intention of becoming professional singers … maybe. Truth be told\, we would if we could … still might\, some of us. Otherwise\, we’re very excited about performing at our outings.
URL:https://gatewaytheater.org/event/remembering-gwen-pippin/
CATEGORIES:Cabaret
ATTACH;FMTTYPE=image/jpeg:https://gatewaytheater.org/wp-content/uploads/2025/09/Gwen-Pippin.jpg
END:VEVENT
BEGIN:VEVENT
DTSTART;TZID=America/Chicago:20250920T200000
DTEND;TZID=America/Chicago:20250920T200000
DTSTAMP:20260423T085302
CREATED:20250522T190224Z
LAST-MODIFIED:20250912T171504Z
UID:10000034-1758398400-1758398400@gatewaytheater.org
SUMMARY:CANCELLED | Esteriore Brothers – TUTTA LA VITA TOUR
DESCRIPTION:► DATE:  Saturday\, September 20\, 2025 TIME:  8:00 p.m.\n\n► Copernicus Center Doors Open:  7:00 p.m.  •  All ages welcome\n► M&G included for $225 tickets.\n\n\n\n\n\n\n\n\n\n\n\n\n\n\n\n\n\n\n\nTickets: $95–$225 \n\n\n\n\n\n\n\n\n\n\n“Tutta La Vita Tour”\nTutta La Vita: Timeless Italian Classics\nBringing together iconic hits and originals that define the heart and soul of Italian music. Featuring unforgettable tracks like “Sempre Sempre” and “Tutta La Vita”\, this album celebrates love\, passion\, and the beauty of life.\nGet ready to sing\, dance\, and celebrate la dolce vita with iconic Italian hits and original songs.\n\n\n\n\nYouTube\n\n\n\n\n\n\n\n\nYoTube
URL:https://gatewaytheater.org/event/esteriore-brothers-tutta-la-vita-tour/
CATEGORIES:Concerts
ATTACH;FMTTYPE=image/jpeg:https://gatewaytheater.org/wp-content/uploads/2025/05/INSTAGRAM.jpg
END:VEVENT
BEGIN:VEVENT
DTSTART;TZID=America/Chicago:20250921T200000
DTEND;TZID=America/Chicago:20250921T200000
DTSTAMP:20260423T085302
CREATED:20250522T190405Z
LAST-MODIFIED:20250915T190208Z
UID:10000035-1758484800-1758484800@gatewaytheater.org
SUMMARY:Natalia Jimenez
DESCRIPTION:► DATE:  September 21\, 2025 TIME:  8:00 p.m.\n\n► Copernicus Center Doors Open:  6:30 p.m.  •  All ages welcome\n\n\n\n\n\n\n\n\n\n\n\n\n\n\n\n\n\nIMPORTANT:\nTickets are exclusively available online. \n\n\n\n\n\n\n\n\n\n\nTickets: $49–$129 \n\n\n\n\n\n\n\n\n\n\n No te pierdas una noche inolvidable con Natalia Jiménez\, la galardonada cantante española y exvocalista de La Quinta Estación! Reconocida por su poderosa voz y emotivas interpretaciones\, Natalia presentará sus grandes éxitos como “Creo en Mí” y “El Sol No Regresa” en un espectáculo lleno de pasión y energía. Con una fusión de pop\, mariachi y esencia latina\, este concierto será una celebración imperdible de su trayectoria musical. Una cita obligada para los amantes de la música latina!
URL:https://gatewaytheater.org/event/natalia-jimenez/
CATEGORIES:Concerts
ATTACH;FMTTYPE=image/jpeg:https://gatewaytheater.org/wp-content/uploads/2025/05/Natalia-4x4-1.jpg
END:VEVENT
BEGIN:VEVENT
DTSTART;TZID=America/Chicago:20250925T193000
DTEND;TZID=America/Chicago:20250925T193000
DTSTAMP:20260423T085302
CREATED:20250801T200911Z
LAST-MODIFIED:20250918T164431Z
UID:10000073-1758828600-1758828600@gatewaytheater.org
SUMMARY:GATEWAY LOUNGE | Tim Piotrkowski’s Comedy Showcase
DESCRIPTION:Due to circumstances beyond our control\, we regret to inform you that Tim Piotrkowski’s Comedy Showcase in the Gateway Lounge on August 21\, 2025\, has been postponed until September 25\, 2025. Ticketholders can contact the box office for a refund or ticket exchange. \nPresented by Copernicus Foundation: Tim Piotrkowski’s Comedy Showcase in the Gateway Lounge\n\n\n\n\n\n\n\n\n\n\n\n\n► DATE:  September 25\, 2025  TIME:  7:30 p.m. | Doors: 6:30 p.m. \n► Annex / Gateway Lounge \n\n\n\n\n\n\n\n\n\n\n\n\n\n\n\n\n\n\n\n\n\n\n\n\n\n\n\n\n\n\n\n\n\nLaughter is the best medicine! Come out for a night of side-splitting laughter at our comedy showcase! Join us at The Gateway Lounge on Thursday\, August 21\, at 7:30 PM for our monthly comedy showcase. Featuring a hilarious lineup of Chicago comedians. It’s a laid-back evening filled with good vibes and plenty of laughs. This is a show you won’t want to miss! Tickets are $10 and can be purchased at the door or online. Free Parking. \n \n Sara Dirks:Sara Dirks performs standup\, sketch and improv comedy. She has performed at many venues and festivals\, including the Laugh Factory\, Zanies\, The Comedy Bar\, the World Comedy Expo Chicago\, the Des Moines Comédie Festival\, and the Portland Maine Comedy Festival. Her comedy is inspired by her life\, as it were\, but don’t ask about it — she will overshare.Regular Show: Kohl’s Cash (improv team) Fridays at 9:30pm – iO Theater. \n \nGrace Piotrowski:Grace is a Buffalo-born\, Chicago-based stand up comedian who’s performed around the world with credits including Zanies\, Don’t Tell Comedy\, Tokyo Comedy Bar\, Second City\, House of Comedy\, and more. Her comedy is known for its biting social commentary and unfortunately-based-on-real-life awkward moments. She produces a weekly open mic in Wrigleyville. \n \nTodd Glover:Born with a natural knack for humor and a contagious wit\, Todd started telling jokes in school cafeteria during college\, and never looked back. Todd’s sharp observational skills and quick wit were honed through a lifetime filled with laughter and a keen eye for the absurdities of everyday life. His unique blend of sharp one liners\, relatable anecdotes and fearless commentary on modern culture quickly made him a favorite at local comedy clubs. Audiences were drawn to Todd’s ability to turn the mundane into the hilarious\, finding humor in everything from his crazy family\, dating mishaps to everyday life. His likability and personal approach to these topics makes him a favorite among audiences and fellow comics. During the pandemic Todd kept Chicago laughing by hosting a popular weekly out door stand-up show in Wicker Park. Todd also produces and hosts a show called Stanup Throw Down\, Millenials vs Gen X and the laughing academy. If you like laughing Todd can deliver! \n \nLindsay Porter: Lindsay Porter hails from Chicago where she has performed at Zanies\, The Laugh Factory\, Comedyplex\, Riddles\, The Lincoln Lodge and in line at Trader Joes. She regularly tours the country with Bad Momz of Comedy and Moms Unhinged. Lindsay is a cool mom whose witty and relatable style translates across generations
URL:https://gatewaytheater.org/event/gateway-lounge-tim-piotrkowskis-comedy-showcase-in-the-gateway-lounge/
CATEGORIES:Comedy
ATTACH;FMTTYPE=image/png:https://gatewaytheater.org/wp-content/uploads/2025/08/b4aea28b34170062f1d1cc973cdeeeb0.png
END:VEVENT
BEGIN:VEVENT
DTSTART;TZID=America/Chicago:20250926T203000
DTEND;TZID=America/Chicago:20250926T203000
DTSTAMP:20260423T085302
CREATED:20250522T190904Z
LAST-MODIFIED:20250925T161422Z
UID:10000036-1758918600-1758918600@gatewaytheater.org
SUMMARY:POSTPONED | Yolanda Del Rio
DESCRIPTION:► DATE:  September 26\, 2025 TIME:  8:30 p.m.\n\n► Copernicus Center Doors Open:  6:00 p.m.  •  Theater Doors Open: 7:30 p.m.\n\n►  All ages welcome\n\n\n\n\n\n\n\n\n\n\n\n\n\n\n\n\n\nIMPORTANT:\nTickets are exclusively available online. \n\n\n\n\n\n\n\n\n\n\nTickets: $39–$69 \n\n\n\n\n\n\n\n\n\nDisfruta una noche llena de emoción y tradición con la inigualable Yolanda del Río\, leyenda viva de la música ranchera. Con una trayectoria que ha marcado generaciones\, Yolanda llega a Chicago para interpretar sus más grandes éxitos como “La hija de nadie” y “Se me olvidó otra vez”\, acompañada de mariachi en vivo y una producción de primer nivel.\nSu voz poderosa y su interpretación llena de sentimiento prometen una velada inolvidable para todos los amantes de la música mexicana. Ya seas fan de toda la vida o nuevo en su música\, este evento es una celebración de nuestra cultura y nuestras raíces.\n¡No te pierdas esta oportunidad única de ver a una ícono en el escenario! Compra tus boletos y prepárate para cantar\, sentir y vibrar con Yolanda del Río.\n\n\n\n\nYouTube\n\n\n\n\n\n\n\n\nYoTube
URL:https://gatewaytheater.org/event/yolanda-del-rio/
CATEGORIES:Concerts
ATTACH;FMTTYPE=image/jpeg:https://gatewaytheater.org/wp-content/uploads/2025/05/2.28.2025-Reschedule-notice.jpg
END:VEVENT
BEGIN:VEVENT
DTSTART;TZID=America/Chicago:20250927T203000
DTEND;TZID=America/Chicago:20250927T203000
DTSTAMP:20260423T085302
CREATED:20250522T191118Z
LAST-MODIFIED:20250626T230023Z
UID:10000037-1759005000-1759005000@gatewaytheater.org
SUMMARY:Andy & Shani Concert
DESCRIPTION:► DATE:  September 27th\, 2025 TIME:  8:30 p.m.\n\n► Copernicus Center Doors Open:  7:00 p.m.  •  Theater Doors Open: 7:30 p.m.\n\n► All ages welcome\n\n\n\n\n\n\n\n\n\n\n\n\n\n\n\n\n\n\n\nTickets: $80 – $160 \n\n\n\n\n\n\n\n\n\n\n\n An Unforgettable Night with Andy & Shani\nJoin us for a spectacular evening of music and celebration featuring the legendary Andy\, the first Iranian-Armenian singer invited to perform at the White House. With a career full of international recognition and numerous awards\, Andy brings his iconic voice and vibrant energy to the stage for a night you won’t want to miss!\nAlongside him is the talented Shani\, adding even more star power to an already incredible show.\nLive Performances\nHonoring a Musical Legend\nA Night of Culture\, Music\, and Memories\nDon’t miss this chance to experience history in the making!\n\n\n\n\nInstagram\n\n\n\n\n\n\n\n\nYouTube\n\n\n\n\n\n\n\n\n\n\n\n\nEVENT ORGANIZER: Chicago Persian Events | www.ChicagoPersianEvents.com | Fazi Riahi | 312-545-6000
URL:https://gatewaytheater.org/event/andy-shani-concert/
CATEGORIES:Concerts
ATTACH;FMTTYPE=image/jpeg:https://gatewaytheater.org/wp-content/uploads/2025/05/164839576-1.jpg
END:VEVENT
BEGIN:VEVENT
DTSTART;TZID=America/Chicago:20250928T160000
DTEND;TZID=America/Chicago:20250928T160000
DTSTAMP:20260423T085302
CREATED:20250912T165318Z
LAST-MODIFIED:20250913T195001Z
UID:10000081-1759075200-1759075200@gatewaytheater.org
SUMMARY:GATEWAY LOUNGE | Barbara Smith and Friends: Off to Paris
DESCRIPTION:► DATE:  September 28th\, 2025 TIME:  4:00 p.m.\n\n► Copernicus Center Doors Open:  3:00 p.m.\n►21+\n\n\n\n\n\n\n\n\n\n\n\n\n\n\n\n\n\n\n\nTickets: $30 \n\n\n\n\n\n\n\n\n\n\n\n\n\n\n\n\n\n\n\n\n\n\n\nGet ready to be transported to Paris with a delightful show by Chicago cabaret performers Barbara Smith and Friends’ . Their upcoming concert performance\, “Off to Paris!”promises to deliver the charm of Parisian cabaret right here in beautiful Chicago. \nFeaturing an incredible lineup of talent\, including Carolyn Broquet\, Tirzah Joy\, Sonia Oyola\, Julia Hawkins\, Lou Ella Rose\, David Hoffman\, Claudia Hommel\, and Musical Director Daniel Stetzel\, you’ll be treated to a captivating mix of classic songs and a few fresh additions to your playlist. \nStep into the Gateway Lounge for an up-close and personal cabaret show brimming with French flair\, where every note invites you to experience the magic of cabaret in a way that’s both engaging and unforgettable. This is a night you won’t want to miss as we send off our Chicago artists on their Parisian tour with Chicago Paris Cabaret Connexion\, a global singer exchange based here in Chicago! \nTickets are $30\, and proceeds will be donated to the Cabaret Connexion Scholarship Fund \nSunday\, September 28\, 4:00 pm\nGateway Lounge at the Copernicus Center\n5216 West Lawrence\nChicago\, IL 60630
URL:https://gatewaytheater.org/event/gateway-lounge-barbara-smith-and-friends-off-to-paris/
CATEGORIES:Cabaret
ATTACH;FMTTYPE=image/jpeg:https://gatewaytheater.org/wp-content/uploads/2025/09/4618388564404ce9eb018c17e194f7a8.jpg
END:VEVENT
END:VCALENDAR