BEGIN:VCALENDAR
VERSION:2.0
PRODID:-//Gateway Theater - ECPv6.15.18//NONSGML v1.0//EN
CALSCALE:GREGORIAN
METHOD:PUBLISH
X-ORIGINAL-URL:https://gatewaytheater.org
X-WR-CALDESC:Events for Gateway Theater
REFRESH-INTERVAL;VALUE=DURATION:PT1H
X-Robots-Tag:noindex
X-PUBLISHED-TTL:PT1H
BEGIN:VTIMEZONE
TZID:America/Chicago
BEGIN:DAYLIGHT
TZOFFSETFROM:-0600
TZOFFSETTO:-0500
TZNAME:CDT
DTSTART:20240310T080000
END:DAYLIGHT
BEGIN:STANDARD
TZOFFSETFROM:-0500
TZOFFSETTO:-0600
TZNAME:CST
DTSTART:20241103T070000
END:STANDARD
BEGIN:DAYLIGHT
TZOFFSETFROM:-0600
TZOFFSETTO:-0500
TZNAME:CDT
DTSTART:20250309T080000
END:DAYLIGHT
BEGIN:STANDARD
TZOFFSETFROM:-0500
TZOFFSETTO:-0600
TZNAME:CST
DTSTART:20251102T070000
END:STANDARD
BEGIN:DAYLIGHT
TZOFFSETFROM:-0600
TZOFFSETTO:-0500
TZNAME:CDT
DTSTART:20260308T080000
END:DAYLIGHT
BEGIN:STANDARD
TZOFFSETFROM:-0500
TZOFFSETTO:-0600
TZNAME:CST
DTSTART:20261101T070000
END:STANDARD
END:VTIMEZONE
BEGIN:VEVENT
DTSTART;TZID=America/Chicago:20250711T200000
DTEND;TZID=America/Chicago:20250711T220000
DTSTAMP:20260423T143822
CREATED:20250522T161549Z
LAST-MODIFIED:20250613T003944Z
UID:10000011-1752264000-1752271200@gatewaytheater.org
SUMMARY:Robin Trower
DESCRIPTION:► DATE:  Friday\, July 11\, 2025  TIME:  8:00 p.m.\n► Copernicus Center Doors Open:  6:30 p.m. • Theater Doors Open 7:00 p.m.\n► All ages welcome\n\nROBIN TROWER returns to the stage after a 5 year absence.  Copernicus Center Friday July 11\, 2025 @ 8:00 PM \nFew would dispute that the title of Robin Trower’s latest album – ‘No More Worlds To Conquer’ – is a fair summary of the thumbprint he has left on the musical universe. But as he reminds us\, it should not be misinterpreted as his mission being accomplished. “I definitely feel like I’m still reaching\,” he considers\, “with the guitar\, and the songs\, and everything else.” \nFor more than six decades\, Robin Trower’s career has known no bounds. At the age of 76\, the British guitarist can reflect on a journey in which he has planted flags across the musical sphere and played every role imaginable. He’s been the driving force behind Sixties icons Procol Harum. The transatlantic solo star who filled US stadiums with 1974’s Bridge Of Sighs. The collaborator and occasional supergroup member. The elder-statesman songwriter whose late period still crackles with invention. \nThe 50th Anniversary version (re-mixed & mastered of Bridge of Sighs will be released in May ‘24 \nIn the 5 decades that followed this million selling album\, Robin Trower’s career has been an act of quiet rebellion. Rewind the reels of the British guitarist’s backstory and you’ll find an artist who has always rolled the dice rather than take the path of least resistance. A literal lifetime since he first stepped onto the British blues circuit as a cub gunslinger\, that fabled Trower power shows no sign of burning out. In fact\, the iconic guitarist’s late-period acceleration is something to behold\, sweeping up new fans alongside\, hardcore supporters who have followed his every move.  During this time\, he’s flowed from his own projects to collaborations with everyone from Jack Bruce to Brian Ferry to Maxi Priest releasing well over 30 albums. \nEVENT ORGANIZER: One Eleven Productions – oneelevenprod.com \nContact Information: scottgelman@oneelevenprod.com
URL:https://gatewaytheater.org/event/robin-trower/
CATEGORIES:Concerts
ATTACH;FMTTYPE=image/jpeg:https://gatewaytheater.org/wp-content/uploads/2025/05/Robin_Trower_Square_Post_1080x1080.jpg
END:VEVENT
BEGIN:VEVENT
DTSTART;TZID=America/Chicago:20250724T193000
DTEND;TZID=America/Chicago:20250724T193000
DTSTAMP:20260423T143822
CREATED:20250703T184614Z
LAST-MODIFIED:20250703T184622Z
UID:10000066-1753385400-1753385400@gatewaytheater.org
SUMMARY:GATEWAY LOUNGE | Tim Piotrkowski's Comedy Showcase
DESCRIPTION:Doors Open: 6:30pm \nShow Starts: 7:30pm \nLaughter is the best medicine! Come out for a night of side-splitting laughter at our comedy showcase! Join us at The Gateway Lounge on Thursday\, July 24th at 7:30 PM for our monthly comedy showcase. Featuring a hilarious lineup of Chicago comedians. It’s a laid-back evening filled with good vibes and plenty of laughs. This is a show you won’t want to miss! Tickets are $10 and can be purchased at the door or online. Free Parking \nHannah Belmont:  \nHannah Belmont is an up and coming comedian based in Chicago. She is a regular at the Laugh Factory\, as well as a performer at other venues including Zanies\, the Comedy Bar\, the Comedy Vault\, Hilarities\, the Lincoln Lodge\, Second City\, several Don’t Tell shows\, Roast Battle\, and many more clubs around the Midwest. She has just recently began headlining various festivals and venues\, including the Good Vibes Comedy Festival in Memphis. She has opened for Jeremiah Watkins\, Chris Franjola\, Mekki Leeper\, Sean Donnelly\, Dov Davidoff\, Bobby Collins\, Richard Villa\, Bill Squire\, Morgan Gallo\, Daniel Butler\, and Raul Sanchez. Hannah is also a satire writer and her work has appears in the publications The Haven and Robot Butt. Hannah is very happy to be here. \nAdam Fouda:        \nAdam is a Chicago based comedian from the UK. He moved to the US to pursue a dream of becoming a scientist\, but got distracted by telling jokes in dive bars instead. \nVictor Paredes:  \nVictor will be performing at roast battle Chicago on July 27. Producing shows starting in September in Chicago. \nMike Mazzella: \nMike Mazzella is a Chicago-based actor\, comedian\, and comedy writer. Mike has been producing and performing in comedy shows since 2012. In 2024\, the Chicago Reader nominated Mike for Best Stage Actor following two successful productions at the Annoyance Theatre & Bar. Over the course of his comedy career\, Mike has performed at such venues as Zanies Chicago\, the Laugh Factory Chicago\, the Second City\, the iO Theatre\, and the Comedy Store in Los Angeles. Additionally\, Mike is a commentator that regularly appears on the popular YouTube channel ScreenCrush\, where his videos have garnered millions of views.
URL:https://gatewaytheater.org/event/gateway-lounge-tim-piotrkowskis-comedy-showcase/
CATEGORIES:Comedy
ATTACH;FMTTYPE=image/png:https://gatewaytheater.org/wp-content/uploads/2025/07/d5263dd4f4897213c8a505bd61904db8.png
END:VEVENT
BEGIN:VEVENT
DTSTART;TZID=America/Chicago:20250726T150000
DTEND;TZID=America/Chicago:20250726T150000
DTSTAMP:20260423T143822
CREATED:20250619T213735Z
LAST-MODIFIED:20250626T225359Z
UID:10000057-1753542000-1753542000@gatewaytheater.org
SUMMARY:GATEWAY LOUNGE | Soulful 70s Sounds: Music that Moved Black America…and the World
DESCRIPTION:► DATE:  July 26th\, 2025  TIME:  3:00 p.m.\n► Copernicus Center Doors Open:  1:30 p.m. • Theater Doors Open 2:30 p.m.\n► Over 18\n\n\n\n\n\n\n\n\n\n\n\n\n\n\n\n\n\n\n\nTickets: $20 \n\n\n\n\n\n\n\n\n\n\n\n\n\n\n\n\n\n\n\n\n\n\n\nSoulful Seventies Sounds celebrates both the music and performers that helped define and direct many of the changes in both the Black community and America in general\, during the 1970s. \nThe program features songs from Marvin Gaye\, Stevie Wonder\, Diana Ross\, Dionne Warwick\, The Four Tops\, Gloria Gaynor\, The Temptations\, and more. \nPresented by vocalist David Stephens with Music Director Beckie Menzie.
URL:https://gatewaytheater.org/event/soulful-70s-sounds-music-that-moved-black-americaand-the-world/
CATEGORIES:Concerts
ATTACH;FMTTYPE=image/jpeg:https://gatewaytheater.org/wp-content/uploads/2025/06/Daves-Pic1.jpg
END:VEVENT
BEGIN:VEVENT
DTSTART;TZID=America/Chicago:20250731T193000
DTEND;TZID=America/Chicago:20250731T193000
DTSTAMP:20260423T143822
CREATED:20250626T203645Z
LAST-MODIFIED:20250626T235813Z
UID:10000059-1753990200-1753990200@gatewaytheater.org
SUMMARY:GATEWAY LOUNGE | Baby Boomer Songwriters with Anne and Mark Burnell
DESCRIPTION:Anne Burnell & Mark Burnell The Baby Boomer Songwriters\n\n\n\n\n\n\n\n\n\n\n\n\n► DATE:  July 31st\, 2025  TIME:  7:30 p.m.\n► Gateway Lounge (formerly The Annex) Doors Open 6:30 p.m.\n► All ages welcome\n\n\n\n\n\n\n\n\n\n\n\n\n\n\n\n\n\n\n\nTickets: $30 \n\n\n\n\n\n\n\n\n\n\n\n\n\nAnne Burnell & Mark Burnell\nBaby Boomer Songwriters of the Brill Building\nBaby Boomers Carole King\, Burt Bacharch\, Neil Sedaka\, Lieber and Stoller and more wrote the songs of a generation in New York’s famous Brill Building. The hit makers wrote for Aretha\, Ben E. King\, the Drifters\, and Dionne Warwick\, including “I Feel the Earth Move”\, “Laughter in the Rain”\, “Save the Last Dance for Me”\, “The Look of Love” and so many more! Presented by award-winning Chicago performers Anne Burnell & Mark Burnell and their band\, will bring classic harmonies\, and piano jazz arrangements to these treasured songs.
URL:https://gatewaytheater.org/event/baby-boomer-songwriters-with-anne-and-mark-burnell/
CATEGORIES:Cabaret
ATTACH;FMTTYPE=image/png:https://gatewaytheater.org/wp-content/uploads/2025/06/Baby-Boomer-Songwriters-Gateway.png
END:VEVENT
END:VCALENDAR