BEGIN:VCALENDAR
VERSION:2.0
PRODID:-//Gateway Theater - ECPv6.15.18//NONSGML v1.0//EN
CALSCALE:GREGORIAN
METHOD:PUBLISH
X-ORIGINAL-URL:https://gatewaytheater.org
X-WR-CALDESC:Events for Gateway Theater
REFRESH-INTERVAL;VALUE=DURATION:PT1H
X-Robots-Tag:noindex
X-PUBLISHED-TTL:PT1H
BEGIN:VTIMEZONE
TZID:America/Chicago
BEGIN:DAYLIGHT
TZOFFSETFROM:-0600
TZOFFSETTO:-0500
TZNAME:CDT
DTSTART:20240310T080000
END:DAYLIGHT
BEGIN:STANDARD
TZOFFSETFROM:-0500
TZOFFSETTO:-0600
TZNAME:CST
DTSTART:20241103T070000
END:STANDARD
BEGIN:DAYLIGHT
TZOFFSETFROM:-0600
TZOFFSETTO:-0500
TZNAME:CDT
DTSTART:20250309T080000
END:DAYLIGHT
BEGIN:STANDARD
TZOFFSETFROM:-0500
TZOFFSETTO:-0600
TZNAME:CST
DTSTART:20251102T070000
END:STANDARD
BEGIN:DAYLIGHT
TZOFFSETFROM:-0600
TZOFFSETTO:-0500
TZNAME:CDT
DTSTART:20260308T080000
END:DAYLIGHT
BEGIN:STANDARD
TZOFFSETFROM:-0500
TZOFFSETTO:-0600
TZNAME:CST
DTSTART:20261101T070000
END:STANDARD
BEGIN:DAYLIGHT
TZOFFSETFROM:-0600
TZOFFSETTO:-0500
TZNAME:CDT
DTSTART:20270314T080000
END:DAYLIGHT
BEGIN:STANDARD
TZOFFSETFROM:-0500
TZOFFSETTO:-0600
TZNAME:CST
DTSTART:20271107T070000
END:STANDARD
END:VTIMEZONE
BEGIN:VEVENT
DTSTART;TZID=America/Chicago:20260311T090000
DTEND;TZID=America/Chicago:20260311T170000
DTSTAMP:20260422T001203
CREATED:20260106T182851Z
LAST-MODIFIED:20260106T182851Z
UID:10000136-1773219600-1773248400@gatewaytheater.org
SUMMARY:GATEWAY LOUNGE | Life Line Screening
DESCRIPTION:► DATE: Wednesday\, March 11\, 2026 | TIME:  9:00 a.m. –  5:00 p.m. \n\n\n\n\n\n\n\n\n\n\n\n\n\n\n\n\n\n\n\n\n\n\n\n\n\n\n\n\n\n\n\n\n\n\n\n\n\nWe have great news! Copernicus Center will be hosting a Life Line Screening event on 3/11/2026. Life Line Screening is the premier provider of stroke and cardiovascular disease risk screenings since 1993. Life Line Screening is extending a discounted offer to all (organization name) members which will identify your risk level for the following diseases:\n1. Carotid Artery Disease\n2. Peripheral Arterial Disease\n3. Abdominal Aortic Aneurysm\n4. Atrial Fibrillation \nGo to Life Line Screening or call 800-324-9458 to schedule your appointment! A simple screening can be worth a lifetime.
URL:https://gatewaytheater.org/event/gateway-lounge-life-line-screening/
CATEGORIES:Workshops & Panels
ATTACH;FMTTYPE=image/jpeg:https://gatewaytheater.org/wp-content/uploads/2026/01/03.11.2026-Social-Media-post-.jpg
END:VEVENT
BEGIN:VEVENT
DTSTART;TZID=America/Chicago:20251105T190000
DTEND;TZID=America/Chicago:20251105T190000
DTSTAMP:20260422T001203
CREATED:20250925T155727Z
LAST-MODIFIED:20250925T155808Z
UID:10000087-1762369200-1762369200@gatewaytheater.org
SUMMARY:Heart Life Music: An Evening in Conversation with Kenny Chesney
DESCRIPTION:The Book Stall presents bestselling singer-songwriter Kenny Chesney at Gateway Theater at the Copernicus Center to discuss his new memoir! \n\n\n\n\n\n\n\n\nDate and time\nWednesday\, November 5 · 7 – 8pm CST. Doors at 5:30pm\n\n\n\n\n\n\n\n\n\n\n\n\nLocation\n\n\n\nCopernicus Center \n5216 West Lawrence Avenue Chicago\, IL 60630 \nGet directions
URL:https://gatewaytheater.org/event/heart-life-music-an-evening-in-conversation-with-kenny-chesney/
CATEGORIES:Workshops & Panels
ATTACH;FMTTYPE=image/jpeg:https://gatewaytheater.org/wp-content/uploads/2025/09/HeartLifeMusic_HC-scaled.jpg
END:VEVENT
BEGIN:VEVENT
DTSTART;TZID=America/Chicago:20250917T090000
DTEND;TZID=America/Chicago:20250917T090000
DTSTAMP:20260422T001203
CREATED:20250904T163233Z
LAST-MODIFIED:20250904T163315Z
UID:10000079-1758099600-1758099600@gatewaytheater.org
SUMMARY:Life Line Screening
DESCRIPTION:Life Line Screening\, Wednesday\, September 17\, 2025\, 9am – 5pm.\nWe have great news! Copernicus Center will be hosting\na Life Line Screening event on 09/17/2025. Life Line Screening\nis the premier provider of stroke and cardiovascular disease risk\nscreenings since 1993. Life Line Screening can help\nidentify your risk level for the following diseases:\n1. Carotid Artery Disease\n2. Peripheral Arterial Disease\n3. Abdominal Aortic Aneurysm\n4. Atrial Fibrillation \nGo to Life Line Screening or call 800-324-9458\nto schedule your appointment! A simple screening can\nbe worth a lifetime.
URL:https://gatewaytheater.org/event/life-line-screening/
CATEGORIES:Workshops & Panels
ATTACH;FMTTYPE=image/jpeg:https://gatewaytheater.org/wp-content/uploads/2025/09/Social-Media-post-2.jpg
END:VEVENT
END:VCALENDAR