BEGIN:VCALENDAR
VERSION:2.0
PRODID:-//Gateway Theater - ECPv6.15.18//NONSGML v1.0//EN
CALSCALE:GREGORIAN
METHOD:PUBLISH
X-ORIGINAL-URL:https://gatewaytheater.org
X-WR-CALDESC:Events for Gateway Theater
REFRESH-INTERVAL;VALUE=DURATION:PT1H
X-Robots-Tag:noindex
X-PUBLISHED-TTL:PT1H
BEGIN:VTIMEZONE
TZID:America/Chicago
BEGIN:DAYLIGHT
TZOFFSETFROM:-0600
TZOFFSETTO:-0500
TZNAME:CDT
DTSTART:20250309T080000
END:DAYLIGHT
BEGIN:STANDARD
TZOFFSETFROM:-0500
TZOFFSETTO:-0600
TZNAME:CST
DTSTART:20251102T070000
END:STANDARD
BEGIN:DAYLIGHT
TZOFFSETFROM:-0600
TZOFFSETTO:-0500
TZNAME:CDT
DTSTART:20260308T080000
END:DAYLIGHT
BEGIN:STANDARD
TZOFFSETFROM:-0500
TZOFFSETTO:-0600
TZNAME:CST
DTSTART:20261101T070000
END:STANDARD
BEGIN:DAYLIGHT
TZOFFSETFROM:-0600
TZOFFSETTO:-0500
TZNAME:CDT
DTSTART:20270314T080000
END:DAYLIGHT
BEGIN:STANDARD
TZOFFSETFROM:-0500
TZOFFSETTO:-0600
TZNAME:CST
DTSTART:20271107T070000
END:STANDARD
END:VTIMEZONE
BEGIN:VEVENT
DTSTART;TZID=America/Chicago:20260514T190000
DTEND;TZID=America/Chicago:20260514T223000
DTSTAMP:20260421T193206
CREATED:20260312T175015Z
LAST-MODIFIED:20260325T011301Z
UID:10000184-1778785200-1778797800@gatewaytheater.org
SUMMARY:GATEWAY LOUNGE | Cry Me a River: The Music of Julie London
DESCRIPTION:May 14\, 2026 7:00 PM \nDoors Open: 6:00 PM \n \nJulie London was an American singer\, a film and TV actress\, and a pinup model\, whose career spanned five decades. She released over 30 albums of pop and jazz standards\, including her signature song\, Cry Me a River. She married songwriter and pianist Bobby Troup (“Route 66”) and later starred with him in the television series Emergency! Billboard named her the most popular female vocalist for 1955\, 1956\, and 1957.Featuring Anne Burnell\, Marck Burnell\, and Henry Johnson. \nThis show is part of Chicago Cabaret Week 2026  \nThe Gateway Lounge at Copernicus Center\nAll proceeds from our events directly support the nonprofit Copernicus Foundation and its mission to fund performing arts and cultural education across Chicagoland.NOTE: FEES & TAXES INCLUDED AT CHECKOUT:\n10% – CITY OF CHICAGO & COOK COUNTY AMUSEMENT TAX | BMI\, ASCP MUSIC LICENSING | SECURE CHECKOUT  | 3% CREDIT CARD PROCESSING\n$30 G/A tickets only include the 3% processing fee. \n“$30 GA\, $40 Premium\, $45 VIP \n 
URL:https://gatewaytheater.org/event/gateway-lounge-cry-me-a-river-the-music-of-julie-london/
CATEGORIES:Cabaret,Jazz,LOUNGE
ATTACH;FMTTYPE=image/png:https://gatewaytheater.org/wp-content/uploads/2026/03/a8f2cf3b7593b886d83a13c814f36866.png
END:VEVENT
END:VCALENDAR