BEGIN:VCALENDAR
VERSION:2.0
PRODID:-//Gateway Theater - ECPv6.15.18//NONSGML v1.0//EN
CALSCALE:GREGORIAN
METHOD:PUBLISH
X-ORIGINAL-URL:https://gatewaytheater.org
X-WR-CALDESC:Events for Gateway Theater
REFRESH-INTERVAL;VALUE=DURATION:PT1H
X-Robots-Tag:noindex
X-PUBLISHED-TTL:PT1H
BEGIN:VTIMEZONE
TZID:America/Chicago
BEGIN:DAYLIGHT
TZOFFSETFROM:-0600
TZOFFSETTO:-0500
TZNAME:CDT
DTSTART:20250309T080000
END:DAYLIGHT
BEGIN:STANDARD
TZOFFSETFROM:-0500
TZOFFSETTO:-0600
TZNAME:CST
DTSTART:20251102T070000
END:STANDARD
BEGIN:DAYLIGHT
TZOFFSETFROM:-0600
TZOFFSETTO:-0500
TZNAME:CDT
DTSTART:20260308T080000
END:DAYLIGHT
BEGIN:STANDARD
TZOFFSETFROM:-0500
TZOFFSETTO:-0600
TZNAME:CST
DTSTART:20261101T070000
END:STANDARD
BEGIN:DAYLIGHT
TZOFFSETFROM:-0600
TZOFFSETTO:-0500
TZNAME:CDT
DTSTART:20270314T080000
END:DAYLIGHT
BEGIN:STANDARD
TZOFFSETFROM:-0500
TZOFFSETTO:-0600
TZNAME:CST
DTSTART:20271107T070000
END:STANDARD
END:VTIMEZONE
BEGIN:VEVENT
DTSTART;TZID=America/Chicago:20260419T180000
DTEND;TZID=America/Chicago:20260419T180000
DTSTAMP:20260422T043655
CREATED:20260224T170808Z
LAST-MODIFIED:20260417T184347Z
UID:10000168-1776621600-1776621600@gatewaytheater.org
SUMMARY:Maryja. Matka Papieża - film dokumentalny w reż. Jana Sobierajskiego
DESCRIPTION:DATE: Sunday\, April 19\, 2026  \nTIME:  6:00 p.m. \nDoors Open:  04:30 p.m.  \nAges 11 and up! \n\n\n\n\n\n\n\n\n\n\n\n\n\n\n\n\n\n\n\nTickets: $25 plus taxes and fees \n\n\n\n\n\n\n\n\n\n\n\n\n\n„MARYJA. MATKA PAPIEŻA”\nPierwszy film ukazujący mistyczną relację Karola Wojtyły z Matką Bożą. To Ona prowadziła Jana Pawła II przez wszystkie dni jego pontyfikatu. W filmie ukazane są uznane objawienia Maryjne\, w których ważnym elementem jest aktualne zagrożenie ze strony Rosji. Od wypełnienia orędzi Matki Bożej zależy przyszłość świata.
URL:https://gatewaytheater.org/event/maryja-matka-papieza-film-dokumentalny-w-rez-jana-sobierajskiego-2/
CATEGORIES:Featured Events,Film
ATTACH;FMTTYPE=image/jpeg:https://gatewaytheater.org/wp-content/uploads/2026/02/film-1-1.jpg
END:VEVENT
END:VCALENDAR