BEGIN:VCALENDAR
VERSION:2.0
PRODID:-//Gateway Theater - ECPv6.15.18//NONSGML v1.0//EN
CALSCALE:GREGORIAN
METHOD:PUBLISH
X-ORIGINAL-URL:https://gatewaytheater.org
X-WR-CALDESC:Events for Gateway Theater
REFRESH-INTERVAL;VALUE=DURATION:PT1H
X-Robots-Tag:noindex
X-PUBLISHED-TTL:PT1H
BEGIN:VTIMEZONE
TZID:America/Chicago
BEGIN:DAYLIGHT
TZOFFSETFROM:-0600
TZOFFSETTO:-0500
TZNAME:CDT
DTSTART:20250309T080000
END:DAYLIGHT
BEGIN:STANDARD
TZOFFSETFROM:-0500
TZOFFSETTO:-0600
TZNAME:CST
DTSTART:20251102T070000
END:STANDARD
BEGIN:DAYLIGHT
TZOFFSETFROM:-0600
TZOFFSETTO:-0500
TZNAME:CDT
DTSTART:20260308T080000
END:DAYLIGHT
BEGIN:STANDARD
TZOFFSETFROM:-0500
TZOFFSETTO:-0600
TZNAME:CST
DTSTART:20261101T070000
END:STANDARD
BEGIN:DAYLIGHT
TZOFFSETFROM:-0600
TZOFFSETTO:-0500
TZNAME:CDT
DTSTART:20270314T080000
END:DAYLIGHT
BEGIN:STANDARD
TZOFFSETFROM:-0500
TZOFFSETTO:-0600
TZNAME:CST
DTSTART:20271107T070000
END:STANDARD
END:VTIMEZONE
BEGIN:VEVENT
DTSTART;TZID=America/Chicago:20260418T130000
DTEND;TZID=America/Chicago:20260418T130000
DTSTAMP:20260419T141919
CREATED:20260310T155619Z
LAST-MODIFIED:20260417T184253Z
UID:10000176-1776517200-1776517200@gatewaytheater.org
SUMMARY:Concept Schools Art & Language Festival
DESCRIPTION:► DATE:  Saturday\, April 18\, 2026  TIME:  01:00 p.m. \n►  Doors Open:  12:00 p.m.  •  Theater Doors Open:  12:30 p.m. \n\n\n\n\n\n\n\n\n\n\n\n\n\n\n\n\n\n\n\n\n\n\nVarious singers\, dance groups\, instrument players\, and one school band and one school choir\n\n\nConcept Schools Art & Language Festival is a celebration of a global language\, art\, dance\, music\, and song\, where students share their talents on stage.\nSince its beginnings in 2008\, students have represented cultures from Poland\, India\, Bosnia\, Turkey\, Albania\, South Korea\, Viet Nam\, Spain\, Mexico\, and Central and South America.\nIn addition to from experiencing the stage performances\, attendees can visit the art exhibition featuring cultural pictures\, photographs\, paintings\, handicrafts and sculptures\, all of which are created by students. \n\n\n\n\n\n\n\n\nConcept Schools\nwww.conceptschools.org | (419) 699-2809
URL:https://gatewaytheater.org/event/concept-schools-art-language-festival/
CATEGORIES:Concerts,dance,Featured Events
ATTACH;FMTTYPE=image/jpeg:https://gatewaytheater.org/wp-content/uploads/2026/03/2026-ALF-Instagram-Social-Media-1080-x-1350.jpg
END:VEVENT
END:VCALENDAR