BEGIN:VCALENDAR
VERSION:2.0
PRODID:-//Gateway Theater - ECPv6.15.18//NONSGML v1.0//EN
CALSCALE:GREGORIAN
METHOD:PUBLISH
X-WR-CALNAME:Gateway Theater
X-ORIGINAL-URL:https://gatewaytheater.org
X-WR-CALDESC:Events for Gateway Theater
REFRESH-INTERVAL;VALUE=DURATION:PT1H
X-Robots-Tag:noindex
X-PUBLISHED-TTL:PT1H
BEGIN:VTIMEZONE
TZID:America/Chicago
BEGIN:DAYLIGHT
TZOFFSETFROM:-0600
TZOFFSETTO:-0500
TZNAME:CDT
DTSTART:20250309T080000
END:DAYLIGHT
BEGIN:STANDARD
TZOFFSETFROM:-0500
TZOFFSETTO:-0600
TZNAME:CST
DTSTART:20251102T070000
END:STANDARD
BEGIN:DAYLIGHT
TZOFFSETFROM:-0600
TZOFFSETTO:-0500
TZNAME:CDT
DTSTART:20260308T080000
END:DAYLIGHT
BEGIN:STANDARD
TZOFFSETFROM:-0500
TZOFFSETTO:-0600
TZNAME:CST
DTSTART:20261101T070000
END:STANDARD
BEGIN:DAYLIGHT
TZOFFSETFROM:-0600
TZOFFSETTO:-0500
TZNAME:CDT
DTSTART:20270314T080000
END:DAYLIGHT
BEGIN:STANDARD
TZOFFSETFROM:-0500
TZOFFSETTO:-0600
TZNAME:CST
DTSTART:20271107T070000
END:STANDARD
END:VTIMEZONE
BEGIN:VEVENT
DTSTART;TZID=America/Chicago:20260513T183000
DTEND;TZID=America/Chicago:20260513T220000
DTSTAMP:20260422T173400
CREATED:20260129T181607Z
LAST-MODIFIED:20260402T014112Z
UID:10000155-1778697000-1778709600@gatewaytheater.org
SUMMARY:GATEWAY LOUNGE | GATEWAY SOCIAL DANCERS
DESCRIPTION:Gateway Social Dancers | $10 at the Door \nJoin us every weekly (days subject to change) at the Gateway Lounge for an open\, welcoming night of social dancing for everyone. The Gateway Social Dancers (Formerly the White Eagle Dancers) bring together a fun mix of oldies\, line dancing\, country\, swing\, and more\, all spun by a DJ to keep the floor moving all night. \nWhether you’re an experienced dancer or just looking to have fun\, this is a relaxed\, friendly atmosphere where all are welcome—come solo or bring friends. \nNo pressure. No lessons required. Just great music\, good people\, and a full dance floor.
URL:https://gatewaytheater.org/event/gateway-lounge-gateway-social-dancers-12/
CATEGORIES:dance
ATTACH;FMTTYPE=image/jpeg:https://gatewaytheater.org/wp-content/uploads/2026/01/IMG_1724-scaled-1.jpeg
END:VEVENT
BEGIN:VEVENT
DTSTART;TZID=America/Chicago:20260520T183000
DTEND;TZID=America/Chicago:20260520T183000
DTSTAMP:20260422T173400
CREATED:20260313T143937Z
LAST-MODIFIED:20260313T143951Z
UID:10000185-1779301800-1779301800@gatewaytheater.org
SUMMARY:GATEWAY LOUNGE | GATEWAY SOCIAL DANCERS
DESCRIPTION:Gateway Social Dancers | $10 at the Door\nJoin us every weekly (days subject to change) at the Gateway Lounge for an open\, welcoming night of social dancing for everyone. The Gateway Social Dancers (Formerly the White Eagle Dancers) bring together a fun mix of oldies\, line dancing\, country\, swing\, and more\, all spun by a DJ to keep the floor moving all night. \nWhether you’re an experienced dancer or just looking to have fun\, this is a relaxed\, friendly atmosphere where all are welcome—come solo or bring friends. \nNo pressure. No lessons required. Just great music\, good people\, and a full dance floor.
URL:https://gatewaytheater.org/event/gateway-lounge-gateway-social-dancers-13/
CATEGORIES:dance
ATTACH;FMTTYPE=image/jpeg:https://gatewaytheater.org/wp-content/uploads/2026/01/IMG_1724-scaled-1.jpeg
END:VEVENT
BEGIN:VEVENT
DTSTART;TZID=America/Chicago:20260527T183000
DTEND;TZID=America/Chicago:20260527T183000
DTSTAMP:20260422T173400
CREATED:20260313T150828Z
LAST-MODIFIED:20260313T150835Z
UID:10000186-1779906600-1779906600@gatewaytheater.org
SUMMARY:GATEWAY LOUNGE | GATEWAY SOCIAL DANCERS
DESCRIPTION:Gateway Social Dancers | $10 at the Door \nJoin us every weekly (days subject to change) at the Gateway Lounge for an open\, welcoming night of social dancing for everyone. The Gateway Social Dancers (Formerly the White Eagle Dancers) bring together a fun mix of oldies\, line dancing\, country\, swing\, and more\, all spun by a DJ to keep the floor moving all night. \nWhether you’re an experienced dancer or just looking to have fun\, this is a relaxed\, friendly atmosphere where all are welcome—come solo or bring friends. \nNo pressure. No lessons required. Just great music\, good people\, and a full dance floor.
URL:https://gatewaytheater.org/event/gateway-lounge-gateway-social-dancers-14/
CATEGORIES:dance
ATTACH;FMTTYPE=image/jpeg:https://gatewaytheater.org/wp-content/uploads/2026/01/IMG_1724-scaled-1.jpeg
END:VEVENT
BEGIN:VEVENT
DTSTART;TZID=America/Chicago:20260603T183000
DTEND;TZID=America/Chicago:20260603T183000
DTSTAMP:20260422T173400
CREATED:20260313T151016Z
LAST-MODIFIED:20260313T151037Z
UID:10000187-1780511400-1780511400@gatewaytheater.org
SUMMARY:GATEWAY LOUNGE | GATEWAY SOCIAL DANCERS
DESCRIPTION:Gateway Social Dancers | $10 at the Door \nJoin us every weekly (days subject to change) at the Gateway Lounge for an open\, welcoming night of social dancing for everyone. The Gateway Social Dancers (Formerly the White Eagle Dancers) bring together a fun mix of oldies\, line dancing\, country\, swing\, and more\, all spun by a DJ to keep the floor moving all night. \nWhether you’re an experienced dancer or just looking to have fun\, this is a relaxed\, friendly atmosphere where all are welcome—come solo or bring friends. \nNo pressure. No lessons required. Just great music\, good people\, and a full dance floor.
URL:https://gatewaytheater.org/event/gateway-lounge-gateway-social-dancers-15/
CATEGORIES:dance
ATTACH;FMTTYPE=image/jpeg:https://gatewaytheater.org/wp-content/uploads/2026/01/IMG_1724-scaled-1.jpeg
END:VEVENT
BEGIN:VEVENT
DTSTART;TZID=America/Chicago:20260610T183000
DTEND;TZID=America/Chicago:20260610T183000
DTSTAMP:20260422T173400
CREATED:20260313T151204Z
LAST-MODIFIED:20260313T151211Z
UID:10000188-1781116200-1781116200@gatewaytheater.org
SUMMARY:GATEWAY LOUNGE | GATEWAY SOCIAL DANCERS
DESCRIPTION:Gateway Social Dancers | $10 at the Door \nJoin us every weekly (days subject to change) at the Gateway Lounge for an open\, welcoming night of social dancing for everyone. The Gateway Social Dancers (Formerly the White Eagle Dancers) bring together a fun mix of oldies\, line dancing\, country\, swing\, and more\, all spun by a DJ to keep the floor moving all night. \nWhether you’re an experienced dancer or just looking to have fun\, this is a relaxed\, friendly atmosphere where all are welcome—come solo or bring friends. \nNo pressure. No lessons required. Just great music\, good people\, and a full dance floor.
URL:https://gatewaytheater.org/event/gateway-lounge-gateway-social-dancers-16/
CATEGORIES:dance
ATTACH;FMTTYPE=image/jpeg:https://gatewaytheater.org/wp-content/uploads/2026/01/IMG_1724-scaled-1.jpeg
END:VEVENT
BEGIN:VEVENT
DTSTART;TZID=America/Chicago:20260617T183000
DTEND;TZID=America/Chicago:20260617T183000
DTSTAMP:20260422T173400
CREATED:20260313T151303Z
LAST-MODIFIED:20260313T151310Z
UID:10000189-1781721000-1781721000@gatewaytheater.org
SUMMARY:GATEWAY LOUNGE | GATEWAY SOCIAL DANCERS
DESCRIPTION:Gateway Social Dancers | $10 at the Door \nJoin us every weekly (days subject to change) at the Gateway Lounge for an open\, welcoming night of social dancing for everyone. The Gateway Social Dancers (Formerly the White Eagle Dancers) bring together a fun mix of oldies\, line dancing\, country\, swing\, and more\, all spun by a DJ to keep the floor moving all night. \nWhether you’re an experienced dancer or just looking to have fun\, this is a relaxed\, friendly atmosphere where all are welcome—come solo or bring friends. \nNo pressure. No lessons required. Just great music\, good people\, and a full dance floor.
URL:https://gatewaytheater.org/event/gateway-lounge-gateway-social-dancers-17/
CATEGORIES:dance
ATTACH;FMTTYPE=image/jpeg:https://gatewaytheater.org/wp-content/uploads/2026/01/IMG_1724-scaled-1.jpeg
END:VEVENT
BEGIN:VEVENT
DTSTART;TZID=America/Chicago:20260624T183000
DTEND;TZID=America/Chicago:20260624T183000
DTSTAMP:20260422T173400
CREATED:20260313T151418Z
LAST-MODIFIED:20260402T014227Z
UID:10000190-1782325800-1782325800@gatewaytheater.org
SUMMARY:GATEWAY LOUNGE | GATEWAY SOCIAL DANCERS
DESCRIPTION:Gateway Social Dancers | $10 at the Door \nJoin us every weekly (days subject to change) at the Gateway Lounge for an open\, welcoming night of social dancing for everyone. The Gateway Social Dancers (Formerly the White Eagle Dancers) bring together a fun mix of oldies\, line dancing\, country\, swing\, and more\, all spun by a DJ to keep the floor moving all night. \nWhether you’re an experienced dancer or just looking to have fun\, this is a relaxed\, friendly atmosphere where all are welcome—come solo or bring friends. \nNo pressure. No lessons required. Just great music\, good people\, and a full dance floor.
URL:https://gatewaytheater.org/event/gateway-lounge-gateway-social-dancers-18/
CATEGORIES:dance
ATTACH;FMTTYPE=image/jpeg:https://gatewaytheater.org/wp-content/uploads/2026/01/IMG_1724-scaled-1.jpeg
END:VEVENT
BEGIN:VEVENT
DTSTART;TZID=America/Chicago:20260701T183000
DTEND;TZID=America/Chicago:20260701T183000
DTSTAMP:20260422T173400
CREATED:20260313T151848Z
LAST-MODIFIED:20260313T151915Z
UID:10000191-1782930600-1782930600@gatewaytheater.org
SUMMARY:GATEWAY LOUNGE | GATEWAY SOCIAL DANCERS
DESCRIPTION:Gateway Social Dancers | $10 at the Door \nJoin us every weekly (days subject to change) at the Gateway Lounge for an open\, welcoming night of social dancing for everyone. The Gateway Social Dancers (Formerly the White Eagle Dancers) bring together a fun mix of oldies\, line dancing\, country\, swing\, and more\, all spun by a DJ to keep the floor moving all night. \nWhether you’re an experienced dancer or just looking to have fun\, this is a relaxed\, friendly atmosphere where all are welcome—come solo or bring friends. \nNo pressure. No lessons required. Just great music\, good people\, and a full dance floor.
URL:https://gatewaytheater.org/event/gateway-lounge-gateway-social-dancers-19/
CATEGORIES:dance
ATTACH;FMTTYPE=image/jpeg:https://gatewaytheater.org/wp-content/uploads/2026/01/IMG_1724-scaled-1.jpeg
END:VEVENT
BEGIN:VEVENT
DTSTART;TZID=America/Chicago:20260708T183000
DTEND;TZID=America/Chicago:20260708T183000
DTSTAMP:20260422T173400
CREATED:20260313T152423Z
LAST-MODIFIED:20260313T152429Z
UID:10000192-1783535400-1783535400@gatewaytheater.org
SUMMARY:GATEWAY LOUNGE | GATEWAY SOCIAL DANCERS
DESCRIPTION:Gateway Social Dancers | $10 at the Door \nJoin us every weekly (days subject to change) at the Gateway Lounge for an open\, welcoming night of social dancing for everyone. The Gateway Social Dancers (Formerly the White Eagle Dancers) bring together a fun mix of oldies\, line dancing\, country\, swing\, and more\, all spun by a DJ to keep the floor moving all night. \nWhether you’re an experienced dancer or just looking to have fun\, this is a relaxed\, friendly atmosphere where all are welcome—come solo or bring friends. \nNo pressure. No lessons required. Just great music\, good people\, and a full dance floor.
URL:https://gatewaytheater.org/event/gateway-lounge-gateway-social-dancers-20/
CATEGORIES:dance
ATTACH;FMTTYPE=image/jpeg:https://gatewaytheater.org/wp-content/uploads/2026/01/IMG_1724-scaled-1.jpeg
END:VEVENT
BEGIN:VEVENT
DTSTART;TZID=America/Chicago:20260715T183000
DTEND;TZID=America/Chicago:20260715T183000
DTSTAMP:20260422T173400
CREATED:20260313T152723Z
LAST-MODIFIED:20260313T152729Z
UID:10000193-1784140200-1784140200@gatewaytheater.org
SUMMARY:GATEWAY LOUNGE | GATEWAY SOCIAL DANCERS
DESCRIPTION:Gateway Social Dancers | $10 at the Door \nJoin us every weekly (days subject to change) at the Gateway Lounge for an open\, welcoming night of social dancing for everyone. The Gateway Social Dancers (Formerly the White Eagle Dancers) bring together a fun mix of oldies\, line dancing\, country\, swing\, and more\, all spun by a DJ to keep the floor moving all night. \nWhether you’re an experienced dancer or just looking to have fun\, this is a relaxed\, friendly atmosphere where all are welcome—come solo or bring friends. \nNo pressure. No lessons required. Just great music\, good people\, and a full dance floor.
URL:https://gatewaytheater.org/event/gateway-lounge-gateway-social-dancers-21/
CATEGORIES:dance
ATTACH;FMTTYPE=image/jpeg:https://gatewaytheater.org/wp-content/uploads/2026/01/IMG_1724-scaled-1.jpeg
END:VEVENT
BEGIN:VEVENT
DTSTART;TZID=America/Chicago:20260722T183000
DTEND;TZID=America/Chicago:20260722T183000
DTSTAMP:20260422T173400
CREATED:20260313T152816Z
LAST-MODIFIED:20260313T152838Z
UID:10000194-1784745000-1784745000@gatewaytheater.org
SUMMARY:GATEWAY LOUNGE | GATEWAY SOCIAL DANCERS
DESCRIPTION:Gateway Social Dancers | $10 at the Door \nJoin us every weekly (days subject to change) at the Gateway Lounge for an open\, welcoming night of social dancing for everyone. The Gateway Social Dancers (Formerly the White Eagle Dancers) bring together a fun mix of oldies\, line dancing\, country\, swing\, and more\, all spun by a DJ to keep the floor moving all night. \nWhether you’re an experienced dancer or just looking to have fun\, this is a relaxed\, friendly atmosphere where all are welcome—come solo or bring friends. \nNo pressure. No lessons required. Just great music\, good people\, and a full dance floor.
URL:https://gatewaytheater.org/event/gateway-lounge-gateway-social-dancers-22/
CATEGORIES:dance
ATTACH;FMTTYPE=image/jpeg:https://gatewaytheater.org/wp-content/uploads/2026/01/IMG_1724-scaled-1.jpeg
END:VEVENT
BEGIN:VEVENT
DTSTART;TZID=America/Chicago:20260729T183000
DTEND;TZID=America/Chicago:20260729T183000
DTSTAMP:20260422T173400
CREATED:20260313T152937Z
LAST-MODIFIED:20260313T153005Z
UID:10000195-1785349800-1785349800@gatewaytheater.org
SUMMARY:GATEWAY LOUNGE | GATEWAY SOCIAL DANCERS
DESCRIPTION:Gateway Social Dancers | $10 at the Door \nJoin us every weekly (days subject to change) at the Gateway Lounge for an open\, welcoming night of social dancing for everyone. The Gateway Social Dancers (Formerly the White Eagle Dancers) bring together a fun mix of oldies\, line dancing\, country\, swing\, and more\, all spun by a DJ to keep the floor moving all night. \nWhether you’re an experienced dancer or just looking to have fun\, this is a relaxed\, friendly atmosphere where all are welcome—come solo or bring friends. \nNo pressure. No lessons required. Just great music\, good people\, and a full dance floor.
URL:https://gatewaytheater.org/event/gateway-lounge-gateway-social-dancers-23/
CATEGORIES:dance
ATTACH;FMTTYPE=image/jpeg:https://gatewaytheater.org/wp-content/uploads/2026/01/IMG_1724-scaled-1.jpeg
END:VEVENT
END:VCALENDAR