BEGIN:VCALENDAR
VERSION:2.0
PRODID:-//Gateway Theater - ECPv6.15.18//NONSGML v1.0//EN
CALSCALE:GREGORIAN
METHOD:PUBLISH
X-WR-CALNAME:Gateway Theater
X-ORIGINAL-URL:https://gatewaytheater.org
X-WR-CALDESC:Events for Gateway Theater
REFRESH-INTERVAL;VALUE=DURATION:PT1H
X-Robots-Tag:noindex
X-PUBLISHED-TTL:PT1H
BEGIN:VTIMEZONE
TZID:America/Chicago
BEGIN:DAYLIGHT
TZOFFSETFROM:-0600
TZOFFSETTO:-0500
TZNAME:CDT
DTSTART:20250309T080000
END:DAYLIGHT
BEGIN:STANDARD
TZOFFSETFROM:-0500
TZOFFSETTO:-0600
TZNAME:CST
DTSTART:20251102T070000
END:STANDARD
BEGIN:DAYLIGHT
TZOFFSETFROM:-0600
TZOFFSETTO:-0500
TZNAME:CDT
DTSTART:20260308T080000
END:DAYLIGHT
BEGIN:STANDARD
TZOFFSETFROM:-0500
TZOFFSETTO:-0600
TZNAME:CST
DTSTART:20261101T070000
END:STANDARD
BEGIN:DAYLIGHT
TZOFFSETFROM:-0600
TZOFFSETTO:-0500
TZNAME:CDT
DTSTART:20270314T080000
END:DAYLIGHT
BEGIN:STANDARD
TZOFFSETFROM:-0500
TZOFFSETTO:-0600
TZNAME:CST
DTSTART:20271107T070000
END:STANDARD
END:VTIMEZONE
BEGIN:VEVENT
DTSTART;TZID=America/Chicago:20260130T193000
DTEND;TZID=America/Chicago:20260130T193000
DTSTAMP:20260419T124032
CREATED:20251212T184537Z
LAST-MODIFIED:20260104T181917Z
UID:10000121-1769801400-1769801400@gatewaytheater.org
SUMMARY:GATEWAY LOUNGE | Petra Van Nuis: Music From Film Noir – A Femme Fatale’s Songbook
DESCRIPTION:Music From Film Noir – A Femme Fatale’s Songbook\nVocalist Petra van Nuis with Guitarist Andy Brown’s Trio\nGATEWAY LOUNGE | Friday\, January 30th\, 2026 | 7:30 p.m. GATEWAY LOUNGE Open 6:30 p.m.\nAll ages welcome\nTickets: $25 online |  $30 at door\n\nIn “Music from Film Noir – A Femme Fatale’s Songbook\,” jazz vocalist Petra van Nuis conjures the smoky world of noir through shadowy torch songs featured in films of the genre. Backed by guitarist Andy Brown’s trio\, Petra invites audiences on a cinematic journey into a mysterious and seductive world of seedy nightclubs\, dangerous romances\, and streets glistening with midnight rain.www. Petrasings.com\n \n\n\n\n\n\n\n\n\n\n \n\n\n\n\n\n\n\n\n\n\n\n\n\n\n\n\n\n\n\n\n\n\n\n\n\n\n\n\n\n\nwww. Petrasings.com\n\n\n\n\n\n\n\n\n\n\n\n\n\n\nEVENT ORGANIZER: GATEWAY THEATER & LOUNGE
URL:https://gatewaytheater.org/event/music-from-film-noir-a-femme-fatales-songbook/
CATEGORIES:Concerts
ATTACH;FMTTYPE=image/jpeg:https://gatewaytheater.org/wp-content/uploads/2025/12/1080X1080.jpg
END:VEVENT
END:VCALENDAR