BEGIN:VCALENDAR
VERSION:2.0
PRODID:-//Gateway Theater - ECPv6.15.18//NONSGML v1.0//EN
CALSCALE:GREGORIAN
METHOD:PUBLISH
X-ORIGINAL-URL:https://gatewaytheater.org
X-WR-CALDESC:Events for Gateway Theater
REFRESH-INTERVAL;VALUE=DURATION:PT1H
X-Robots-Tag:noindex
X-PUBLISHED-TTL:PT1H
BEGIN:VTIMEZONE
TZID:America/Chicago
BEGIN:DAYLIGHT
TZOFFSETFROM:-0600
TZOFFSETTO:-0500
TZNAME:CDT
DTSTART:20240310T080000
END:DAYLIGHT
BEGIN:STANDARD
TZOFFSETFROM:-0500
TZOFFSETTO:-0600
TZNAME:CST
DTSTART:20241103T070000
END:STANDARD
BEGIN:DAYLIGHT
TZOFFSETFROM:-0600
TZOFFSETTO:-0500
TZNAME:CDT
DTSTART:20250309T080000
END:DAYLIGHT
BEGIN:STANDARD
TZOFFSETFROM:-0500
TZOFFSETTO:-0600
TZNAME:CST
DTSTART:20251102T070000
END:STANDARD
BEGIN:DAYLIGHT
TZOFFSETFROM:-0600
TZOFFSETTO:-0500
TZNAME:CDT
DTSTART:20260308T080000
END:DAYLIGHT
BEGIN:STANDARD
TZOFFSETFROM:-0500
TZOFFSETTO:-0600
TZNAME:CST
DTSTART:20261101T070000
END:STANDARD
END:VTIMEZONE
BEGIN:VEVENT
DTSTART;TZID=America/Chicago:20251212T193000
DTEND;TZID=America/Chicago:20251212T223000
DTSTAMP:20260419T235137
CREATED:20250925T155220Z
LAST-MODIFIED:20251130T195810Z
UID:10000086-1765567800-1765578600@gatewaytheater.org
SUMMARY:DRIFT – KARD USA TOUR 2025
DESCRIPTION:Get ready to experience the explosive energy of KARD live! The co-ed K-Pop powerhouse is bringing their unique blend of addictive hits\, jaw-dropping performances\, and fan- favorite moments to the U.S. this December. From the unforgettable stage charisma of BM\, JIWOO\, SOMIN\, and J.seph to exclusive fan events and surprises\, this tour is set to deliver nights you’ll never forget. Don’t miss your chance to sing\, dance\, and connect with KARD like never before! \n\nDRIFT – KARD USA TOUR 2025\n\n\n\n\n\n\n\n\nDRIFT – KARD USA TOUR 2025\n► DATE:  Friday\, December 12\, 2025  TIME:  7:30 p.m.\n► GATEWAY THEATER AT Copernicus Center Doors Open:  6:30 p.m.\n► 16 and under when accompanied by an adult (18+)\n \nVVIP GOLD (Fanchat with BM) – 25 @ $199.00 (limit 1 ticket per person)\nVVIP GOLD (Fanchat with Jiwoo) – 25 @ $199.00 (limit 1 ticket per person)\nVVIP GOLD (Fanchat with Somin) – 25 @ $199.00 (limit 1 ticket per person)\nVVIP GOLD (Fanchat with J.Seph) – 25 @ $199.00 (limit 1 ticket per person)\nIncludes:\nFanchat\nPre Signed Poster\nGroup Photo – Groups of 10 fans with all 4\nHi Touch\nAttendance at Soundcheck\nLanyard\nConcert admission (first entry)\n_______________________________________________\n\nVVIP SILVER – 200 @ $169.00\nIncludes:\nPre Signed Poster\nGroup Photo – Groups of 10 fans with all 4\nHi Touch\nAttendance at Soundcheck\nLanyard\nConcert admission (second entry) \n_______________________________________________ \n\n\n\n\n\n\n\nVIP BRONZE -200 @ $149.00\nIncludes:\nPoster\nAttendance at Soundcheck\nLanyard\nConcert admission (third entry) \n Purchase Accessible Seats
URL:https://gatewaytheater.org/event/drift-kard-usa-tour-2025/
CATEGORIES:Concerts
ATTACH;FMTTYPE=image/jpeg:https://gatewaytheater.org/wp-content/uploads/2025/09/Image2.jpg
END:VEVENT
BEGIN:VEVENT
DTSTART;TZID=America/Chicago:20251213T190000
DTEND;TZID=America/Chicago:20251213T220000
DTSTAMP:20260419T235137
CREATED:20251002T172152Z
LAST-MODIFIED:20251130T200010Z
UID:10000099-1765652400-1765663200@gatewaytheater.org
SUMMARY:The City Wide Symphony's Holiday Concert
DESCRIPTION:► DATE:  Saturday\, December 13\, 2025  TIME:  07:00pm  \n► Copernicus Center Doors Open:  6:00pm • All ages welcome \n► Tickets: Kids 12 & Under are FREE\, $12 for Adults\, $7 for Seniors \n\n\n\n\n\n\n\n\n\n\n\n \n\n\n\n\n\n\n\nThe Chicago Park District is delighted to welcome Jefferson Memorial Park’s own historic City-Wide Symphony Orchestra back to the Copernicus Center for their 79th Season Holiday Concert! \n\n\nFounded in 1947\, the City-Wide Symphony Orchestra is an all-volunteer community ensemble that has offered Chicago-area musicians of all ages the chance to perform in a semi-professional setting for nearly eight decades. Through its concerts and programs\, the orchestra continues to enrich the city’s cultural life and bring people together through music. \nThe City-Wide Symphony Orchestra remains committed to fostering a love of symphonic music and supporting music as a lifelong pursuit. Its repertoire spans masterful classical works\, beloved lighter classics\, uniquely American compositions\, and underperformed pieces that deserve a place on today’s stage. \nThe orchestra is honored to continue to be part of Chicago’s holiday season celebrations. This year’s performance promises to fill the Copernicus Center with festive spirit\, inspiring music\, and memories for the whole family to enjoy. \nChicago Park District Event Organizer: Jefferson Memorial Park Advisory Council\, The Chicago Parks District\, Chicago City Wide Orchestra\, Copernicus Foundation \n\n\n\n\n\n\nContact information: Andrea.Woppel@ChicagoParkDistrict.com
URL:https://gatewaytheater.org/event/the-city-wide-symphonys-holiday-concert/
CATEGORIES:Concerts
ATTACH;FMTTYPE=image/jpeg:https://gatewaytheater.org/wp-content/uploads/2025/10/The-City-Wide-Symphonys-Holiday-Concert-675-x-354-px.jpg
END:VEVENT
END:VCALENDAR