BEGIN:VCALENDAR
VERSION:2.0
PRODID:-//Gateway Theater - ECPv6.15.18//NONSGML v1.0//EN
CALSCALE:GREGORIAN
METHOD:PUBLISH
X-WR-CALNAME:Gateway Theater
X-ORIGINAL-URL:https://gatewaytheater.org
X-WR-CALDESC:Events for Gateway Theater
REFRESH-INTERVAL;VALUE=DURATION:PT1H
X-Robots-Tag:noindex
X-PUBLISHED-TTL:PT1H
BEGIN:VTIMEZONE
TZID:America/Chicago
BEGIN:DAYLIGHT
TZOFFSETFROM:-0600
TZOFFSETTO:-0500
TZNAME:CDT
DTSTART:20250309T080000
END:DAYLIGHT
BEGIN:STANDARD
TZOFFSETFROM:-0500
TZOFFSETTO:-0600
TZNAME:CST
DTSTART:20251102T070000
END:STANDARD
BEGIN:DAYLIGHT
TZOFFSETFROM:-0600
TZOFFSETTO:-0500
TZNAME:CDT
DTSTART:20260308T080000
END:DAYLIGHT
BEGIN:STANDARD
TZOFFSETFROM:-0500
TZOFFSETTO:-0600
TZNAME:CST
DTSTART:20261101T070000
END:STANDARD
BEGIN:DAYLIGHT
TZOFFSETFROM:-0600
TZOFFSETTO:-0500
TZNAME:CDT
DTSTART:20270314T080000
END:DAYLIGHT
BEGIN:STANDARD
TZOFFSETFROM:-0500
TZOFFSETTO:-0600
TZNAME:CST
DTSTART:20271107T070000
END:STANDARD
END:VTIMEZONE
BEGIN:VEVENT
DTSTART;TZID=America/Chicago:20260424T193000
DTEND;TZID=America/Chicago:20260424T213000
DTSTAMP:20260419T111317
CREATED:20260306T184131Z
LAST-MODIFIED:20260417T184503Z
UID:10000173-1777059000-1777066200@gatewaytheater.org
SUMMARY:GATEWAY LOUNGE | James Sanders & Conjunto Latin Jazz Performance
DESCRIPTION:Date: April 24\, 2026\, at 7:30 PM \nDoors: 6:30 PM \n \nConjunto is James Sanders’ long running project to unite his classical training and theory with the freedom of jazz improvisation\, all grounded in the lively rhythms of the Caribbean: rumba\, son\, danzón\, bolero and more. The result are performances that move audiences figuratively and literally\, where moments of hushed intimacy are followed by joyous dancing. From Afro-roots to salsa to jazz\, Conjunto is equally at home at a dance party\, jazz club or festival stage.
URL:https://gatewaytheater.org/event/james-sanders-conjunto-latin-jazz-performance-2/
CATEGORIES:Concerts,Featured Events,Jazz
ATTACH;FMTTYPE=image/jpeg:https://gatewaytheater.org/wp-content/uploads/2026/03/2c85431819e371abadab4cfa3d5b25f7-scaled.jpg
END:VEVENT
BEGIN:VEVENT
DTSTART;TZID=America/Chicago:20260424T200000
DTEND;TZID=America/Chicago:20260424T200000
DTSTAMP:20260419T111317
CREATED:20260224T171320Z
LAST-MODIFIED:20260417T184657Z
UID:10000169-1777060800-1777060800@gatewaytheater.org
SUMMARY:Jahongir Otajonov Concert in Chicago
DESCRIPTION:Date: April 24\, 2026 \nTime: 8:00 p.m. \n\nAge Restriction: n/a \n\n\nDoors open: 7 p.m. \n\n\n\n\n\n\n\n\nIMPORTANT:\nTickets are available exclusively online. \n\n\n\n\n\n\n\n\nTickets from $50-$140\n \n\n\n\n\n\n\n\n\n\n\n\nGet ready\, Chicago! Experience an unforgettable night of music\, energy\, and Uzbek star power as Jahongir Otajonov takes the stage on April 24 for a spectacular live concert.\nKnown for his electrifying performances\, charismatic stage presence\, and genre-blending sound\, Jahongir Otajonov has become one of the most celebrated voices in modern Uzbek music. Fusing traditional Uzbek melodies with contemporary pop\, dance\, and world music influences\, his concerts deliver a high-energy atmosphere that keeps audiences singing and dancing all night long.\nFans can expect to hear his biggest hits\, fan-favorite anthems\, and new chart-topping tracks performed live with a full band and immersive production. Whether you’ve followed him for years or are discovering his music for the first time\, this concert promises a vibrant cultural celebration and an emotional musical journey.\nJoin the Uzbek community and international music lovers from across the Midwest for a one-night-only performance filled with rhythm\, passion\, and unforgettable moments.\nDate: April 24 City: Chicago\, Illinois Artist: Jahongir Otajonov Live • One Night Only\nDon’t miss your chance to witness one of Uzbekistan’s most dynamic performers live in concert.
URL:https://gatewaytheater.org/event/jahongir-otajonov-concert-in-chicago/
CATEGORIES:Concerts,Featured Events
ATTACH;FMTTYPE=image/jpeg:https://gatewaytheater.org/wp-content/uploads/2026/02/1080×1920_insta-story.jpg
END:VEVENT
BEGIN:VEVENT
DTSTART;TZID=America/Chicago:20260430T193000
DTEND;TZID=America/Chicago:20260430T193000
DTSTAMP:20260419T111317
CREATED:20260416T161357Z
LAST-MODIFIED:20260416T162255Z
UID:10000210-1777577400-1777577400@gatewaytheater.org
SUMMARY:GATEWAY LOUNGE | Frank Lamphere Live
DESCRIPTION:► DATE:  Thursday\, April 30th\, 2026 \n► Doors Open:  6:30 p.m. | Show: 7:30 p.m. \n  \nFrank Lamphere is a traditional pop-jazz singer\, independent recording artist and throwback to the adult male pop singers of the 1950-60s. In this show he will perform selections from both his upcoming Dean Martin tribute album “I’ll Be Seeing You” and his 2025 Frank Sinatra tribute album “Frank Songs\, My Way”. A show for both listeners and dancers\, Frank will be accompanied by an all-star jazz quartet.
URL:https://gatewaytheater.org/event/gateway-lounge-frank-lamphere-live/
CATEGORIES:Concerts,Jazz
ATTACH;FMTTYPE=image/jpeg:https://gatewaytheater.org/wp-content/uploads/2026/04/15872d621e24a97999a02d6849832553.jpg
END:VEVENT
BEGIN:VEVENT
DTSTART;TZID=America/Chicago:20260501T200000
DTEND;TZID=America/Chicago:20260501T200000
DTSTAMP:20260419T111317
CREATED:20260325T131024Z
LAST-MODIFIED:20260402T162753Z
UID:10000205-1777665600-1777665600@gatewaytheater.org
SUMMARY:THE MAGNIFICENT MAZOWSZE
DESCRIPTION:► DATE:  Friday\, May 1st\, 2026 \n\n\n\n\n\n\n\n\n\n\n\n\n► Doors Open:  6:30 p.m. | Show: 8:00 p.m. \n► All ages \n\n\n\n\n\n\n\n\n\n\n\n\n\n\n\n\n\n\n\nTickets: $65-$185 \n\n\n\n\n\n\n\n\n\n\n\n\n\nAfter 16 years\, the world-renowned Magnificent Mazowsze will return to the United States. \nFounded in 1948\, Mazowsze has become one of the largest and most celebrated ensembles of its kind in the world\, performing for millions of spectators across Europe\, Asia\, the Americas\, and beyond. \nThe ensemble has captivated audiences on all continents\, showcasing the beauty\, color\, and spirit of Poland’s folk heritage at the highest artistic level. Spectators will experience the extraordinary artistry of the Mazowsze Ballet\, Orchestra and Choir in a breathtaking production featuring dynamic choreography\, powerful music\, and more than 1\,500 dazzling costumes representing Poland’s rich regional traditions. \nMazowsze will perform under the baton of Jacek Boniecki\, the Ensemble’s director and conductor. \nPo 16 latach nieobecności światowej sławy Zespół Ludowy Pieśni i Tańca „Mazowsze”  – The Magnificent Mazowsze powróci do Stanów Zjednoczonych. \nZałożony w 1948 roku zespół Mazowsze stał się jednym z największych i najbardziej cenionych zespołów tego typu na świecie\, występując dla milionów widzów w Europie\, Azji\, obu Amerykach i wielu innych regionach świata. \nZespół zachwycił publiczność na wszystkich kontynentach\, prezentując piękno\, barwy i ducha polskiego folkloru na najwyższym poziomie artystycznym. Widzowie doświadczą niezwykłego kunsztu zobaczą niezwykły kunszt 150 artystów na scenie – Chóru\, Baletu i Orkiestry Mazowsza – w zapierającym dech w piersiach widowisku z dynamiczną choreografią\, wspaniałą muzyką oraz ponad 1500 olśniewającymi kostiumami reprezentującymi bogate tradycje regionalne Polski. \nMazowsze wystąpi pod batutą Jacka Bonieckiego\, dyrektora i dyrygenta zespołu. \n\n\n\n\n\n\n\n\nWWW
URL:https://gatewaytheater.org/event/the-magnificent-mazowsze/
CATEGORIES:Concerts
ATTACH;FMTTYPE=image/jpeg:https://gatewaytheater.org/wp-content/uploads/2026/03/5.1.2026-Image.jpg
END:VEVENT
BEGIN:VEVENT
DTSTART;TZID=America/Chicago:20260516T203000
DTEND;TZID=America/Chicago:20260516T203000
DTSTAMP:20260419T111317
CREATED:20260410T170924Z
LAST-MODIFIED:20260410T171002Z
UID:10000209-1778963400-1778963400@gatewaytheater.org
SUMMARY:Richard Clayderman en vivo en Chicago
DESCRIPTION:Richard Clayderman in the Gateway Theater \n► DATE:  Saturday \, May 16\, 2026  TIME:  | 8:30 p.m. \n► Gateway Theater Doors Open:  7:00 p.m.  \n• All ages welcome \n \nIMPORTANT:\nTickets are exclusively available online.  \n🎹✨ NOCHE ROMÁNTICA CON Richard Clayderman ✨🎶 \nDisfruta una velada inolvidable llena de elegancia y emoción con uno de los pianistas más reconocidos del mundo. 🌟 \n📅 Fecha: May 16\, 2026\n📍 Venue: Gateway Theater\n🎼 Género: Instrumental / Clásico contemporáneo / Piano romántico \n💎 Éxitos más conocidos: \n\nBallade pour Adeline\nMariage d’Amour\nA Comme Amour\n\n🎟️ Boletos disponibles en: TICKERI\n👉 https://www.tickeri.com \nSumérgete en una experiencia única con melodías que han conquistado generaciones. Ideal para amantes del piano\, música instrumental y conciertos románticos en vivo. 💫
URL:https://gatewaytheater.org/event/richard-clayderman-en-vivo-en-chicago/
CATEGORIES:Concerts
ATTACH;FMTTYPE=image/jpeg:https://gatewaytheater.org/wp-content/uploads/2026/04/RICHARD-CLEYDEMAN_CHICAGO_1000X1000.jpg
END:VEVENT
BEGIN:VEVENT
DTSTART;TZID=America/Chicago:20260523T193000
DTEND;TZID=America/Chicago:20260523T193000
DTSTAMP:20260419T111317
CREATED:20260312T144922Z
LAST-MODIFIED:20260318T050651Z
UID:10000179-1779564600-1779564600@gatewaytheater.org
SUMMARY:YVES TOUR 2026: THE AMERICAS
DESCRIPTION:Sat • May 23\, 2026 • 7:30 PM \nDoors open at 6:00 PM \nYves is a South Korean singer and songwriter. She first gained international recognition as a member of the K-pop group LOONA\, building a global fanbase through the group’s releases and tours. Following the launch of her solo career\, Yves has released music that blends pop production with personal songwriting. Her solo work has expanded her international audience and established the next chapter of her career as an independent artist. \nIMPORTANT:\nTickets are exclusively available online \n.
URL:https://gatewaytheater.org/event/yves-tour-2026-the-americas/
CATEGORIES:Concerts
ATTACH;FMTTYPE=image/jpeg:https://gatewaytheater.org/wp-content/uploads/2026/03/3145c2c5-c594-435f-aa31-1cde6c1d5c5a_EVENT_DETAIL_PAGE_16_9.jpg
END:VEVENT
BEGIN:VEVENT
DTSTART;TZID=America/Chicago:20260613T210000
DTEND;TZID=America/Chicago:20260613T210000
DTSTAMP:20260419T111317
CREATED:20260402T165340Z
LAST-MODIFIED:20260402T165407Z
UID:10000207-1781384400-1781384400@gatewaytheater.org
SUMMARY:Los Acosta
DESCRIPTION:Los Acosta in the Gateway Theater \n► DATE:  Saturday\, June 13th\, 2026 \n► Doors Open:  7:00 p.m. | Show: 9:00 p.m. \n► Age 21+ \n \nIMPORTANT:\nTickets are exclusively available online.
URL:https://gatewaytheater.org/event/los-acosta/
CATEGORIES:Concerts
ATTACH;FMTTYPE=image/jpeg:https://gatewaytheater.org/wp-content/uploads/2026/04/IMG_3516.jpeg
END:VEVENT
BEGIN:VEVENT
DTSTART;TZID=America/Chicago:20260624T180000
DTEND;TZID=America/Chicago:20260624T180000
DTSTAMP:20260419T111317
CREATED:20260220T181846Z
LAST-MODIFIED:20260417T194101Z
UID:10000167-1782324000-1782324000@gatewaytheater.org
SUMMARY:GATEWAY LOUNGE | Teresa Trull and Barbara Higbie: Reunion\, Pride & CD Release. Opening act Jeannie Tanner.
DESCRIPTION:DATE:  Wednesday\, June 24th\, 2026  \n TIME:  6:00 p.m. \nDoors Open 5:00 p.m. \nAll ages welcome \n\n\n\n\n\n\n\n\n\n\n\n\n\n\n\nIMPORTANT:\nTickets are exclusively available online. \n\n\n\n\n\n\n\n\nTickets $35 for early bird\, $40 after May 1 \n\n\n\n\n\n\n\n\nTwo national legends of women’s music return to Chicago for a rare concert. Teresa Trull & Barbara Higbie have been entertaining with their passionate and spirited music for many decades. They will celebrate Reunion\, Pride & their new CD release in time for Pride Week in Chicago. They will be joined by opening act\, Chicago’s own musical legend\, Jeannie Tanner. All at the beautiful and intimate Gateway Lounge at Copernicus Center on Chicago’s Northwest Side. The venue is wheelchair accessible. There will be sign language interpreters. Tickets $35 for early bird\, $40 after May 1. A limited number of higher-priced tickets available to include a post-show dinner with the artists. Tickets at Goldenrod Records https: tinyurl.com/HigbieTrull. All proceeds benefit Trull’s family medical expenses.
URL:https://gatewaytheater.org/event/teresa-trull-and-barbara-higbie-reunion-pride-cd-release-opening-act-jeannie-tanner/
CATEGORIES:Concerts
ATTACH;FMTTYPE=image/jpeg:https://gatewaytheater.org/wp-content/uploads/2026/02/teresa.jpg
END:VEVENT
BEGIN:VEVENT
DTSTART;TZID=America/Chicago:20260820T193000
DTEND;TZID=America/Chicago:20260820T193000
DTSTAMP:20260419T111317
CREATED:20260327T170013Z
LAST-MODIFIED:20260327T181556Z
UID:10000206-1787254200-1787254200@gatewaytheater.org
SUMMARY:LYKN
DESCRIPTION:LYKN in the Gateway Theater \n► DATE:  Thursday\, August 20th\, 2026 \nLYKN TOUR INFORMATION \n \n \nIMPORTANT:\nTickets are exclusively available online. \nSchedule (subject to change)\n11:00AM – 2:00PM – VIP Check-In\n2:00PM – 2:30PM – Doors Open for SVIP\n2:30PM – 3:00PM – Fan Sign Session for SVIP\n2:30PM – 3.00PM – Doors Open for VIP and A\n3.00PM – 5:00PM – Photo Sessions Begin\nA. 5:1 SVIP Photo Session\nB. 5:5 VIP Photo Session\nC. 5:10 A Photo Session\n5:30PM – 5:40PM – Sound Check Experience \nBenefits  (subject to change) \nSVIP: Fan Sign\, LYKN Badge\, LYKN Lanyard\, Group Photo 5:1\, Sound Check Experience\, Hi-Touch\nVIP: VIP: Pre-Signed Poster\, Group photo 5:5\, Sound Check Experience\, Hi-Touch\nA: Group photo 5:10\, Sound Check Experience\, Hi-Touch\, Pre-Signed Poster (Poster Benefit is Raffled to 200 “VIP A” Fans and Not Guaranteed by Purchasing This Ticket)\nB: Hi-touch\, Pre-Signed Poster (Poster Benefit is Raffled to 50 “VIP B” Fans and Not Guaranteed by Purchasing This Ticket)\nC: Official Poster
URL:https://gatewaytheater.org/event/lykn/
CATEGORIES:Concerts
ATTACH;FMTTYPE=image/png:https://gatewaytheater.org/wp-content/uploads/2026/03/0.png
END:VEVENT
BEGIN:VEVENT
DTSTART;TZID=America/Chicago:20261009T200000
DTEND;TZID=America/Chicago:20261009T200000
DTSTAMP:20260419T111317
CREATED:20260306T191954Z
LAST-MODIFIED:20260306T203712Z
UID:10000175-1791576000-1791576000@gatewaytheater.org
SUMMARY:Tito Nieves - 50 Años La Historia Continua
DESCRIPTION:Date: October 9\, 2026\, at 8:00 pm \nDoors: 6:30 pm \n \nIMPORTANT:\nTickets are available exclusively online. \nBIO \nTito Nieves\, born Humberto Nieves on June 4\, 1958\, in Río Piedras\, Puerto Rico\, is known as the “Pavarotti of Salsa” for his clear and powerful voice. Moving to New York City as a child\, he grew up in a family of musicians & began his professional career in 1975 with Orquesta Cimarrón. He later worked with Héctor Lavoe\, debuted with Johnny Ortiz’s Taibori in 1978\, and co-founded Conjunto Clásico\, recording eight albums with the group before launching his solo career. His solo debut Classic (1988) went gold\, followed by Yo Quiero Cantar (1989)\, which also went gold and featured the groundbreaking English-language salsa hit “I’ll Always Love You.” His 1990 album Déjame Vivir achieved platinum status\, and I Like It Like That (1997)\, an all-English salsa album\, brought mainstream exposure\, including a performance with Stevie Wonder at the Alma Awards. Tito’s later albums\, including Dale Cara a la Vida (1998) and Clase Aparte (1999)\, showcase his blend of salsa\, pop\, and R&B influences.
URL:https://gatewaytheater.org/event/tito-nieves-50-anos-la-historia-continua/
CATEGORIES:Concerts
ATTACH;FMTTYPE=image/jpeg:https://gatewaytheater.org/wp-content/uploads/2026/03/2f589b3c-cdb6-4933-b2ae-dcaf07367074_EVENT_DETAIL_PAGE_16_9.jpg
END:VEVENT
END:VCALENDAR