BEGIN:VCALENDAR
VERSION:2.0
PRODID:-//Gateway Theater - ECPv6.15.18//NONSGML v1.0//EN
CALSCALE:GREGORIAN
METHOD:PUBLISH
X-ORIGINAL-URL:https://gatewaytheater.org
X-WR-CALDESC:Events for Gateway Theater
REFRESH-INTERVAL;VALUE=DURATION:PT1H
X-Robots-Tag:noindex
X-PUBLISHED-TTL:PT1H
BEGIN:VTIMEZONE
TZID:America/Chicago
BEGIN:DAYLIGHT
TZOFFSETFROM:-0600
TZOFFSETTO:-0500
TZNAME:CDT
DTSTART:20240310T080000
END:DAYLIGHT
BEGIN:STANDARD
TZOFFSETFROM:-0500
TZOFFSETTO:-0600
TZNAME:CST
DTSTART:20241103T070000
END:STANDARD
BEGIN:DAYLIGHT
TZOFFSETFROM:-0600
TZOFFSETTO:-0500
TZNAME:CDT
DTSTART:20250309T080000
END:DAYLIGHT
BEGIN:STANDARD
TZOFFSETFROM:-0500
TZOFFSETTO:-0600
TZNAME:CST
DTSTART:20251102T070000
END:STANDARD
BEGIN:DAYLIGHT
TZOFFSETFROM:-0600
TZOFFSETTO:-0500
TZNAME:CDT
DTSTART:20260308T080000
END:DAYLIGHT
BEGIN:STANDARD
TZOFFSETFROM:-0500
TZOFFSETTO:-0600
TZNAME:CST
DTSTART:20261101T070000
END:STANDARD
END:VTIMEZONE
BEGIN:VEVENT
DTSTART;TZID=America/Chicago:20251030T183000
DTEND;TZID=America/Chicago:20251030T183000
DTSTAMP:20260420T031920
CREATED:20251016T160010Z
LAST-MODIFIED:20251029T164700Z
UID:10000104-1761849000-1761849000@gatewaytheater.org
SUMMARY:CANCELLED | Tim Piotrkowski's Comedy Showcase
DESCRIPTION:Laughter is the best medicine! Come out for a night of side-splitting laughter at our comedy showcase! Join us at The Gateway Lounge on Thursday\, October 30th at 7:30 PM for our monthly comedy showcase. Featuring a hilarious lineup of Chicago comedians who have been featured at Zanies\, Laugh Factory and The Comedy Bar . It’s a laid-back evening filled with good vibes and plenty of laughs. This is a show you won’t want to miss! Tickets are $10 and can be purchased at the door or online. Free Parking \nComedians For This Month’s Showcase: \nNona Lee: \nTre Walker: \nLicinio Garcia:
URL:https://gatewaytheater.org/event/tim-piotrkowskis-comedy-showcase-2/
CATEGORIES:Comedy
ATTACH;FMTTYPE=image/png:https://gatewaytheater.org/wp-content/uploads/2025/10/1.png
END:VEVENT
END:VCALENDAR