BEGIN:VCALENDAR
VERSION:2.0
PRODID:-//Gateway Theater - ECPv6.15.18//NONSGML v1.0//EN
CALSCALE:GREGORIAN
METHOD:PUBLISH
X-ORIGINAL-URL:https://gatewaytheater.org
X-WR-CALDESC:Events for Gateway Theater
REFRESH-INTERVAL;VALUE=DURATION:PT1H
X-Robots-Tag:noindex
X-PUBLISHED-TTL:PT1H
BEGIN:VTIMEZONE
TZID:America/Chicago
BEGIN:DAYLIGHT
TZOFFSETFROM:-0600
TZOFFSETTO:-0500
TZNAME:CDT
DTSTART:20240310T080000
END:DAYLIGHT
BEGIN:STANDARD
TZOFFSETFROM:-0500
TZOFFSETTO:-0600
TZNAME:CST
DTSTART:20241103T070000
END:STANDARD
BEGIN:DAYLIGHT
TZOFFSETFROM:-0600
TZOFFSETTO:-0500
TZNAME:CDT
DTSTART:20250309T080000
END:DAYLIGHT
BEGIN:STANDARD
TZOFFSETFROM:-0500
TZOFFSETTO:-0600
TZNAME:CST
DTSTART:20251102T070000
END:STANDARD
BEGIN:DAYLIGHT
TZOFFSETFROM:-0600
TZOFFSETTO:-0500
TZNAME:CDT
DTSTART:20260308T080000
END:DAYLIGHT
BEGIN:STANDARD
TZOFFSETFROM:-0500
TZOFFSETTO:-0600
TZNAME:CST
DTSTART:20261101T070000
END:STANDARD
END:VTIMEZONE
BEGIN:VEVENT
DTSTART;TZID=America/Chicago:20251012T160000
DTEND;TZID=America/Chicago:20251012T160000
DTSTAMP:20260422T171904
CREATED:20250912T170012Z
LAST-MODIFIED:20250925T160306Z
UID:10000082-1760284800-1760284800@gatewaytheater.org
SUMMARY:GATEWAY LOUNGE | Chicago Sounds - Off to Paris!
DESCRIPTION:► DATE:  October 12\, 2025  TIME:  4:00 p.m.\n►  Copernicus Center Doors Open:  3:00 p.m. • Theater Doors Open: 3:30 p.m. • All ages welcome\n\n\n\n\n\n\n\n\n\n\n\n\n\n\n\n\n\n\n\nTickets: $30 GA | $40 VIP \n\n\n\n\n\n\n\n\n\n\n\n\n\n\n\n\n\n\n\n\n\n\n\nCabaret Connexion presents\nChicago Sounds – Off to Paris! \nChicago singers head to Paris in an international exchange with over 30 performers! “Chicago Sounds – Off to Paris” is the second of our preview concerts with direction by Anne Burnell and Howie Pfeifer and Mark Burnell at the piano. \nThe Parisians (and YOU) are in for a panoply of musical genres that make Chicago sing! Blues\, jazz\, R&B\, classical\, musical theatre and burlesque. \nPerformers include Carolyn Broquet\, Anne Burnell\, director\, Valerie Chestnut\, Deborah Good\, Kathryn Hahn\, Claudia Hommel\, Elisabeth Howard\, Tirzah Joy\, Lauren Lassen\, Ava Logan\, Patricia Mosley\, I’m M$ B’Havin\, Sonia Oyola\, Barbara Smith\, The Swingin’ Sisters\, Suzie Telep\, Darryl Thomas\, Beverly Tyree\, Patricia Tyson\, Robin Watson\, Mark Burnell\, piano\, Howie Pfeifer\, piano \n\n\n\n\nYouTube\n\n\n\n\n\n\n\n\n\n\n\n\n\n\nProducer: Working In Concert: Cabaret Connexion | Contact: Claudia Hommel claudia@workinginconcert.org.
URL:https://gatewaytheater.org/event/gateway-lounge-chicago-sounds-off-to-paris/
CATEGORIES:Cabaret
ATTACH;FMTTYPE=image/png:https://gatewaytheater.org/wp-content/uploads/2025/09/b9480dc25c87fa7dba5f472bb9e8b177.png
END:VEVENT
END:VCALENDAR