BEGIN:VCALENDAR
VERSION:2.0
PRODID:-//Gateway Theater - ECPv6.15.18//NONSGML v1.0//EN
CALSCALE:GREGORIAN
METHOD:PUBLISH
X-WR-CALNAME:Gateway Theater
X-ORIGINAL-URL:https://gatewaytheater.org
X-WR-CALDESC:Events for Gateway Theater
REFRESH-INTERVAL;VALUE=DURATION:PT1H
X-Robots-Tag:noindex
X-PUBLISHED-TTL:PT1H
BEGIN:VTIMEZONE
TZID:America/Chicago
BEGIN:DAYLIGHT
TZOFFSETFROM:-0600
TZOFFSETTO:-0500
TZNAME:CDT
DTSTART:20240310T080000
END:DAYLIGHT
BEGIN:STANDARD
TZOFFSETFROM:-0500
TZOFFSETTO:-0600
TZNAME:CST
DTSTART:20241103T070000
END:STANDARD
BEGIN:DAYLIGHT
TZOFFSETFROM:-0600
TZOFFSETTO:-0500
TZNAME:CDT
DTSTART:20250309T080000
END:DAYLIGHT
BEGIN:STANDARD
TZOFFSETFROM:-0500
TZOFFSETTO:-0600
TZNAME:CST
DTSTART:20251102T070000
END:STANDARD
BEGIN:DAYLIGHT
TZOFFSETFROM:-0600
TZOFFSETTO:-0500
TZNAME:CDT
DTSTART:20260308T080000
END:DAYLIGHT
BEGIN:STANDARD
TZOFFSETFROM:-0500
TZOFFSETTO:-0600
TZNAME:CST
DTSTART:20261101T070000
END:STANDARD
END:VTIMEZONE
BEGIN:VEVENT
DTSTART;TZID=America/Chicago:20250920T140000
DTEND;TZID=America/Chicago:20250920T173000
DTSTAMP:20260422T214814
CREATED:20250908T221730Z
LAST-MODIFIED:20250908T222035Z
UID:10000080-1758376800-1758389400@gatewaytheater.org
SUMMARY:Remembering Gwen Pippin
DESCRIPTION:We are the-We-Haven’t-Quit-Our-Day-Job-Yet-Singers. \nThe need to sing is burning inside us\, crazy to get out. So off we go to the OldTownSchool of Folk Music. We take Singing:Performance with Gwen Pippin\, or maybe we’re one of her private students. Three times a year we gather together and sing for friends\, family & each other. \nWe are amateurs and proud of it. Many of us waited till later in life to start singing\, but our desire to sing is so strong that we push through our wall of fear and do it anyway. We have no intention of becoming professional singers … maybe. Truth be told\, we would if we could … still might\, some of us. Otherwise\, we’re very excited about performing at our outings.
URL:https://gatewaytheater.org/event/remembering-gwen-pippin/
CATEGORIES:Cabaret
ATTACH;FMTTYPE=image/jpeg:https://gatewaytheater.org/wp-content/uploads/2025/09/Gwen-Pippin.jpg
END:VEVENT
END:VCALENDAR