BEGIN:VCALENDAR
VERSION:2.0
PRODID:-//Gateway Theater - ECPv6.15.18//NONSGML v1.0//EN
CALSCALE:GREGORIAN
METHOD:PUBLISH
X-WR-CALNAME:Gateway Theater
X-ORIGINAL-URL:https://gatewaytheater.org
X-WR-CALDESC:Events for Gateway Theater
REFRESH-INTERVAL;VALUE=DURATION:PT1H
X-Robots-Tag:noindex
X-PUBLISHED-TTL:PT1H
BEGIN:VTIMEZONE
TZID:America/Chicago
BEGIN:DAYLIGHT
TZOFFSETFROM:-0600
TZOFFSETTO:-0500
TZNAME:CDT
DTSTART:20240310T080000
END:DAYLIGHT
BEGIN:STANDARD
TZOFFSETFROM:-0500
TZOFFSETTO:-0600
TZNAME:CST
DTSTART:20241103T070000
END:STANDARD
BEGIN:DAYLIGHT
TZOFFSETFROM:-0600
TZOFFSETTO:-0500
TZNAME:CDT
DTSTART:20250309T080000
END:DAYLIGHT
BEGIN:STANDARD
TZOFFSETFROM:-0500
TZOFFSETTO:-0600
TZNAME:CST
DTSTART:20251102T070000
END:STANDARD
BEGIN:DAYLIGHT
TZOFFSETFROM:-0600
TZOFFSETTO:-0500
TZNAME:CDT
DTSTART:20260308T080000
END:DAYLIGHT
BEGIN:STANDARD
TZOFFSETFROM:-0500
TZOFFSETTO:-0600
TZNAME:CST
DTSTART:20261101T070000
END:STANDARD
END:VTIMEZONE
BEGIN:VEVENT
DTSTART;TZID=America/Chicago:20250928T160000
DTEND;TZID=America/Chicago:20250928T160000
DTSTAMP:20260422T173111
CREATED:20250912T165318Z
LAST-MODIFIED:20250913T195001Z
UID:10000081-1759075200-1759075200@gatewaytheater.org
SUMMARY:GATEWAY LOUNGE | Barbara Smith and Friends: Off to Paris
DESCRIPTION:► DATE:  September 28th\, 2025 TIME:  4:00 p.m.\n\n► Copernicus Center Doors Open:  3:00 p.m.\n►21+\n\n\n\n\n\n\n\n\n\n\n\n\n\n\n\n\n\n\n\nTickets: $30 \n\n\n\n\n\n\n\n\n\n\n\n\n\n\n\n\n\n\n\n\n\n\n\nGet ready to be transported to Paris with a delightful show by Chicago cabaret performers Barbara Smith and Friends’ . Their upcoming concert performance\, “Off to Paris!”promises to deliver the charm of Parisian cabaret right here in beautiful Chicago. \nFeaturing an incredible lineup of talent\, including Carolyn Broquet\, Tirzah Joy\, Sonia Oyola\, Julia Hawkins\, Lou Ella Rose\, David Hoffman\, Claudia Hommel\, and Musical Director Daniel Stetzel\, you’ll be treated to a captivating mix of classic songs and a few fresh additions to your playlist. \nStep into the Gateway Lounge for an up-close and personal cabaret show brimming with French flair\, where every note invites you to experience the magic of cabaret in a way that’s both engaging and unforgettable. This is a night you won’t want to miss as we send off our Chicago artists on their Parisian tour with Chicago Paris Cabaret Connexion\, a global singer exchange based here in Chicago! \nTickets are $30\, and proceeds will be donated to the Cabaret Connexion Scholarship Fund \nSunday\, September 28\, 4:00 pm\nGateway Lounge at the Copernicus Center\n5216 West Lawrence\nChicago\, IL 60630
URL:https://gatewaytheater.org/event/gateway-lounge-barbara-smith-and-friends-off-to-paris/
CATEGORIES:Cabaret
ATTACH;FMTTYPE=image/jpeg:https://gatewaytheater.org/wp-content/uploads/2025/09/4618388564404ce9eb018c17e194f7a8.jpg
END:VEVENT
END:VCALENDAR