BEGIN:VCALENDAR
VERSION:2.0
PRODID:-//Gateway Theater - ECPv6.15.18//NONSGML v1.0//EN
CALSCALE:GREGORIAN
METHOD:PUBLISH
X-ORIGINAL-URL:https://gatewaytheater.org
X-WR-CALDESC:Events for Gateway Theater
REFRESH-INTERVAL;VALUE=DURATION:PT1H
X-Robots-Tag:noindex
X-PUBLISHED-TTL:PT1H
BEGIN:VTIMEZONE
TZID:America/Chicago
BEGIN:DAYLIGHT
TZOFFSETFROM:-0600
TZOFFSETTO:-0500
TZNAME:CDT
DTSTART:20250309T080000
END:DAYLIGHT
BEGIN:STANDARD
TZOFFSETFROM:-0500
TZOFFSETTO:-0600
TZNAME:CST
DTSTART:20251102T070000
END:STANDARD
BEGIN:DAYLIGHT
TZOFFSETFROM:-0600
TZOFFSETTO:-0500
TZNAME:CDT
DTSTART:20260308T080000
END:DAYLIGHT
BEGIN:STANDARD
TZOFFSETFROM:-0500
TZOFFSETTO:-0600
TZNAME:CST
DTSTART:20261101T070000
END:STANDARD
BEGIN:DAYLIGHT
TZOFFSETFROM:-0600
TZOFFSETTO:-0500
TZNAME:CDT
DTSTART:20270314T080000
END:DAYLIGHT
BEGIN:STANDARD
TZOFFSETFROM:-0500
TZOFFSETTO:-0600
TZNAME:CST
DTSTART:20271107T070000
END:STANDARD
END:VTIMEZONE
BEGIN:VEVENT
DTSTART;TZID=America/Chicago:20260501T200000
DTEND;TZID=America/Chicago:20260501T200000
DTSTAMP:20260421T180411
CREATED:20260325T131024Z
LAST-MODIFIED:20260402T162753Z
UID:10000205-1777665600-1777665600@gatewaytheater.org
SUMMARY:THE MAGNIFICENT MAZOWSZE
DESCRIPTION:► DATE:  Friday\, May 1st\, 2026 \n\n\n\n\n\n\n\n\n\n\n\n\n► Doors Open:  6:30 p.m. | Show: 8:00 p.m. \n► All ages \n\n\n\n\n\n\n\n\n\n\n\n\n\n\n\n\n\n\n\nTickets: $65-$185 \n\n\n\n\n\n\n\n\n\n\n\n\n\nAfter 16 years\, the world-renowned Magnificent Mazowsze will return to the United States. \nFounded in 1948\, Mazowsze has become one of the largest and most celebrated ensembles of its kind in the world\, performing for millions of spectators across Europe\, Asia\, the Americas\, and beyond. \nThe ensemble has captivated audiences on all continents\, showcasing the beauty\, color\, and spirit of Poland’s folk heritage at the highest artistic level. Spectators will experience the extraordinary artistry of the Mazowsze Ballet\, Orchestra and Choir in a breathtaking production featuring dynamic choreography\, powerful music\, and more than 1\,500 dazzling costumes representing Poland’s rich regional traditions. \nMazowsze will perform under the baton of Jacek Boniecki\, the Ensemble’s director and conductor. \nPo 16 latach nieobecności światowej sławy Zespół Ludowy Pieśni i Tańca „Mazowsze”  – The Magnificent Mazowsze powróci do Stanów Zjednoczonych. \nZałożony w 1948 roku zespół Mazowsze stał się jednym z największych i najbardziej cenionych zespołów tego typu na świecie\, występując dla milionów widzów w Europie\, Azji\, obu Amerykach i wielu innych regionach świata. \nZespół zachwycił publiczność na wszystkich kontynentach\, prezentując piękno\, barwy i ducha polskiego folkloru na najwyższym poziomie artystycznym. Widzowie doświadczą niezwykłego kunsztu zobaczą niezwykły kunszt 150 artystów na scenie – Chóru\, Baletu i Orkiestry Mazowsza – w zapierającym dech w piersiach widowisku z dynamiczną choreografią\, wspaniałą muzyką oraz ponad 1500 olśniewającymi kostiumami reprezentującymi bogate tradycje regionalne Polski. \nMazowsze wystąpi pod batutą Jacka Bonieckiego\, dyrektora i dyrygenta zespołu. \n\n\n\n\n\n\n\n\nWWW
URL:https://gatewaytheater.org/event/the-magnificent-mazowsze/
CATEGORIES:Concerts
ATTACH;FMTTYPE=image/jpeg:https://gatewaytheater.org/wp-content/uploads/2026/03/5.1.2026-Image.jpg
END:VEVENT
END:VCALENDAR