BEGIN:VCALENDAR
VERSION:2.0
PRODID:-//Gateway Theater - ECPv6.15.18//NONSGML v1.0//EN
CALSCALE:GREGORIAN
METHOD:PUBLISH
X-WR-CALNAME:Gateway Theater
X-ORIGINAL-URL:https://gatewaytheater.org
X-WR-CALDESC:Events for Gateway Theater
REFRESH-INTERVAL;VALUE=DURATION:PT1H
X-Robots-Tag:noindex
X-PUBLISHED-TTL:PT1H
BEGIN:VTIMEZONE
TZID:America/Chicago
BEGIN:DAYLIGHT
TZOFFSETFROM:-0600
TZOFFSETTO:-0500
TZNAME:CDT
DTSTART:20250309T080000
END:DAYLIGHT
BEGIN:STANDARD
TZOFFSETFROM:-0500
TZOFFSETTO:-0600
TZNAME:CST
DTSTART:20251102T070000
END:STANDARD
BEGIN:DAYLIGHT
TZOFFSETFROM:-0600
TZOFFSETTO:-0500
TZNAME:CDT
DTSTART:20260308T080000
END:DAYLIGHT
BEGIN:STANDARD
TZOFFSETFROM:-0500
TZOFFSETTO:-0600
TZNAME:CST
DTSTART:20261101T070000
END:STANDARD
BEGIN:DAYLIGHT
TZOFFSETFROM:-0600
TZOFFSETTO:-0500
TZNAME:CDT
DTSTART:20270314T080000
END:DAYLIGHT
BEGIN:STANDARD
TZOFFSETFROM:-0500
TZOFFSETTO:-0600
TZNAME:CST
DTSTART:20271107T070000
END:STANDARD
END:VTIMEZONE
BEGIN:VEVENT
DTSTART;TZID=America/Chicago:20260301T180000
DTEND;TZID=America/Chicago:20260301T213000
DTSTAMP:20260421T193758
CREATED:20260107T192337Z
LAST-MODIFIED:20260107T192418Z
UID:10000138-1772388000-1772400600@gatewaytheater.org
SUMMARY:ALLDĘTE "DŹWIĘK POKOLEŃ" - KRAWCZYK\, WODECKI\, NIEMEN & NAJWIĘKSZE POLSKIE PRZEBOJE!
DESCRIPTION:Sunday\, March 1st\, 2026 – GATEWAY THEATER DOORS 5PM | SHOW 6PM\nAll ages welcome\nA new show\, unforgettable emotions\, and a musical journey through decades of Polish music… ALLDĘTE BRASS BAND returns to Chicago with a unique concert program: KRAWCZYK\, WODECKI\, NIEMEN – The Sound of Generations!\nStart with Bach\, The Burning Barn\, I’ll Follow You Like to a Ball – these are just some of the hits that will be performed on the Copernicus Center stage. In addition to songs by Krawczyk\, Wodecki\, and Niemen\, the program will feature the greatest Polish hits\, including those by the group VOX\, Andrzej Zaucha\, and Czerwone Gitary. The entire performance\, seasoned with humor and anecdotes\, will bring to life the history of these songs and their creators\, and evoke many memories.
URL:https://gatewaytheater.org/event/alldete-dzwiek-pokolen-krawczyk-wodecki-niemen-najwieksze-polskie-przeboje/
CATEGORIES:Concerts
ATTACH;FMTTYPE=image/jpeg:https://gatewaytheater.org/wp-content/uploads/2026/01/alldete_1080x1920-IMAGE-e1767813630971.jpg
END:VEVENT
END:VCALENDAR