BEGIN:VCALENDAR
VERSION:2.0
PRODID:-//Gateway Theater - ECPv6.15.18//NONSGML v1.0//EN
CALSCALE:GREGORIAN
METHOD:PUBLISH
X-WR-CALNAME:Gateway Theater
X-ORIGINAL-URL:https://gatewaytheater.org
X-WR-CALDESC:Events for Gateway Theater
REFRESH-INTERVAL;VALUE=DURATION:PT1H
X-Robots-Tag:noindex
X-PUBLISHED-TTL:PT1H
BEGIN:VTIMEZONE
TZID:America/Chicago
BEGIN:DAYLIGHT
TZOFFSETFROM:-0600
TZOFFSETTO:-0500
TZNAME:CDT
DTSTART:20250309T080000
END:DAYLIGHT
BEGIN:STANDARD
TZOFFSETFROM:-0500
TZOFFSETTO:-0600
TZNAME:CST
DTSTART:20251102T070000
END:STANDARD
BEGIN:DAYLIGHT
TZOFFSETFROM:-0600
TZOFFSETTO:-0500
TZNAME:CDT
DTSTART:20260308T080000
END:DAYLIGHT
BEGIN:STANDARD
TZOFFSETFROM:-0500
TZOFFSETTO:-0600
TZNAME:CST
DTSTART:20261101T070000
END:STANDARD
BEGIN:DAYLIGHT
TZOFFSETFROM:-0600
TZOFFSETTO:-0500
TZNAME:CDT
DTSTART:20270314T080000
END:DAYLIGHT
BEGIN:STANDARD
TZOFFSETFROM:-0500
TZOFFSETTO:-0600
TZNAME:CST
DTSTART:20271107T070000
END:STANDARD
END:VTIMEZONE
BEGIN:VEVENT
DTSTART;TZID=America/Chicago:20260221T160000
DTEND;TZID=America/Chicago:20260221T230000
DTSTAMP:20260421T211850
CREATED:20260206T000819Z
LAST-MODIFIED:20260206T000819Z
UID:10000164-1771689600-1771714800@gatewaytheater.org
SUMMARY:Battle of the Bamboo 2026: Pagsibol | Cheers to Our Youth
DESCRIPTION:Battle of the Bamboo\nDoors 4pm | Show 5:30pm\nAll Ages \nBattle of the Bamboo (BOTB) is a cultural dance showcase that has been hosted by Filipinos in Alliance (FIA) at the University of Illinois Chicago since 2003. Performers illustrate generational stories and retell them through a diverse collection of dances rooted in the Philippines. Now\, in 2026\, Filipinos in Alliance will be hosting our 23rd annual Battle of the Bamboo. This event has grown to attract thousands of spectators who attend to watch competing dance groups from high school and collegiate institutions\, as well as a handful of performing exhibition groups. We all come together via our shared love for Filipino culture. Filipinos in Alliance and the 2026 Battle Council are proud to present this year’s theme: “Pagsibol | Cheers to our Youth.”
URL:https://gatewaytheater.org/event/battle-of-the-bamboo-2026-pagsibol-cheers-to-our-youth/
LOCATION:Gateway Theater\, 5216 W. Lawrence Avenue\, Chicago\, IL\, 60630\, United States
CATEGORIES:dance
ATTACH;FMTTYPE=image/jpeg:https://gatewaytheater.org/wp-content/uploads/2026/02/Battle-of-the-Bamboo-2026.jpg
END:VEVENT
END:VCALENDAR