BEGIN:VCALENDAR
VERSION:2.0
PRODID:-//Gateway Theater - ECPv6.15.18//NONSGML v1.0//EN
CALSCALE:GREGORIAN
METHOD:PUBLISH
X-WR-CALNAME:Gateway Theater
X-ORIGINAL-URL:https://gatewaytheater.org
X-WR-CALDESC:Events for Gateway Theater
REFRESH-INTERVAL;VALUE=DURATION:PT1H
X-Robots-Tag:noindex
X-PUBLISHED-TTL:PT1H
BEGIN:VTIMEZONE
TZID:America/Chicago
BEGIN:DAYLIGHT
TZOFFSETFROM:-0600
TZOFFSETTO:-0500
TZNAME:CDT
DTSTART:20250309T080000
END:DAYLIGHT
BEGIN:STANDARD
TZOFFSETFROM:-0500
TZOFFSETTO:-0600
TZNAME:CST
DTSTART:20251102T070000
END:STANDARD
BEGIN:DAYLIGHT
TZOFFSETFROM:-0600
TZOFFSETTO:-0500
TZNAME:CDT
DTSTART:20260308T080000
END:DAYLIGHT
BEGIN:STANDARD
TZOFFSETFROM:-0500
TZOFFSETTO:-0600
TZNAME:CST
DTSTART:20261101T070000
END:STANDARD
BEGIN:DAYLIGHT
TZOFFSETFROM:-0600
TZOFFSETTO:-0500
TZNAME:CDT
DTSTART:20270314T080000
END:DAYLIGHT
BEGIN:STANDARD
TZOFFSETFROM:-0500
TZOFFSETTO:-0600
TZNAME:CST
DTSTART:20271107T070000
END:STANDARD
END:VTIMEZONE
BEGIN:VEVENT
DTSTART;TZID=America/Chicago:20260201T100000
DTEND;TZID=America/Chicago:20260201T140000
DTSTAMP:20260421T211849
CREATED:20260104T185813Z
LAST-MODIFIED:20260104T185813Z
UID:10000133-1769940000-1769954400@gatewaytheater.org
SUMMARY:Jefferson Park Winter Market
DESCRIPTION:Escape the cold and spend a winter afternoon indoors at the Jefferson Park Winter Market\, happening Sunday\, February 1\, 2026\, at the Gateway Theater & Lounge. \nStroll through the historic Gateway Theater and Lounge while enjoying Bloody Marys\, mimosas\, and more. Sip\, shop\, and socialize as you explore a curated selection of local businesses showcasing their goods. \nThe market features a variety of local vendors offering fresh produce\, cheeses and meats\, sauces\, snacks\, coffee\, unique gifts\, and more—perfect for stocking up\, discovering new favorites\, or finding one-of-a-kind items. \nReady-to-eat food will be available on-site\, including tamales from Tamales Express\, offerings from Luciana’s Kitchen\, and additional local food vendors—ideal for enjoying in the lounge and dining spaces while you browse. \nLive music and DJs provide a lively backdrop throughout the day\, creating a warm\, social atmosphere that makes this winter market a neighborhood favorite. \n🚗 Free parking is available in the Gateway Theater Parking Lot. \nCome out\, support local businesses\, enjoy great food and drinks\, and experience Jefferson Park’s winter vibe—all under one roof.
URL:https://gatewaytheater.org/event/jefferson-park-winter-market/
CATEGORIES:Community
ATTACH;FMTTYPE=image/jpeg:https://gatewaytheater.org/wp-content/uploads/2026/01/Jefferson-park-winter-market-2026.jpeg
END:VEVENT
END:VCALENDAR