BEGIN:VCALENDAR
VERSION:2.0
PRODID:-//Gateway Theater - ECPv6.15.18//NONSGML v1.0//EN
CALSCALE:GREGORIAN
METHOD:PUBLISH
X-ORIGINAL-URL:https://gatewaytheater.org
X-WR-CALDESC:Events for Gateway Theater
REFRESH-INTERVAL;VALUE=DURATION:PT1H
X-Robots-Tag:noindex
X-PUBLISHED-TTL:PT1H
BEGIN:VTIMEZONE
TZID:America/Chicago
BEGIN:DAYLIGHT
TZOFFSETFROM:-0600
TZOFFSETTO:-0500
TZNAME:CDT
DTSTART:20240310T080000
END:DAYLIGHT
BEGIN:STANDARD
TZOFFSETFROM:-0500
TZOFFSETTO:-0600
TZNAME:CST
DTSTART:20241103T070000
END:STANDARD
BEGIN:DAYLIGHT
TZOFFSETFROM:-0600
TZOFFSETTO:-0500
TZNAME:CDT
DTSTART:20250309T080000
END:DAYLIGHT
BEGIN:STANDARD
TZOFFSETFROM:-0500
TZOFFSETTO:-0600
TZNAME:CST
DTSTART:20251102T070000
END:STANDARD
BEGIN:DAYLIGHT
TZOFFSETFROM:-0600
TZOFFSETTO:-0500
TZNAME:CDT
DTSTART:20260308T080000
END:DAYLIGHT
BEGIN:STANDARD
TZOFFSETFROM:-0500
TZOFFSETTO:-0600
TZNAME:CST
DTSTART:20261101T070000
END:STANDARD
END:VTIMEZONE
BEGIN:VEVENT
DTSTART;TZID=America/Chicago:20251024T190000
DTEND;TZID=America/Chicago:20251024T190000
DTSTAMP:20260423T132046
CREATED:20250904T161427Z
LAST-MODIFIED:20251002T154950Z
UID:10000077-1761332400-1761332400@gatewaytheater.org
SUMMARY:POSTPONED | Glow Circus: A Japanese-Inspired Neon Circus Show
DESCRIPTION:► DATE:  October 24th\, 2025  TIME:  7:00 p.m.\n► Copernicus Center Doors Open:  6:00 p.m.\n► Age requirement: 5+ Children under the age of 16 must be accompanied by an adult\n\n\n\n\n\n\n\n\n\n\n\n\n\n\n\n\n\n\n\nIMPORTANT:\nTickets are exclusively available online. \n\n\n\n\n\n\n\n\n\n\n\n\nTickets: $50 \n \n\n\n“Glow Circus is a breathtaking journey through Japanese culture and imagination. Follow Leya into a mysterious Tokyo elevator\, where each floor reveals a new world: the Spirit Gate\, Drums of the Mountain\, The Floating Market\, and more. Five world-class performers bring these dazzling realms to life with spellbinding acts. Hoops whirl like halos\, wheels spin like stars\, and lanterns drift across the night. The adventure ends high above a futuristic Tokyo skyline in a finale bursting with color\, light\, and pure joy. Get your tickets for Glow Circus: A Japanese-Inspired Neon Circus Show in Chicago!”\n https://feverup.com/m/432616 \n\n\n\n\n\n\n\n\n\n\nEVENT ORGANIZER: Can be found through the venue’s or Fever’s info
URL:https://gatewaytheater.org/event/glow-circus-a-japanese-inspired-neon-circus-show/
ATTACH;FMTTYPE=image/jpeg:https://gatewaytheater.org/wp-content/uploads/2025/09/10.24.2025-Glow-Circus_USE-THIS-ONE.jpg
END:VEVENT
END:VCALENDAR