BEGIN:VCALENDAR
VERSION:2.0
PRODID:-//Gateway Theater - ECPv6.15.18//NONSGML v1.0//EN
CALSCALE:GREGORIAN
METHOD:PUBLISH
X-WR-CALNAME:Gateway Theater
X-ORIGINAL-URL:https://gatewaytheater.org
X-WR-CALDESC:Events for Gateway Theater
REFRESH-INTERVAL;VALUE=DURATION:PT1H
X-Robots-Tag:noindex
X-PUBLISHED-TTL:PT1H
BEGIN:VTIMEZONE
TZID:America/Chicago
BEGIN:DAYLIGHT
TZOFFSETFROM:-0600
TZOFFSETTO:-0500
TZNAME:CDT
DTSTART:20240310T080000
END:DAYLIGHT
BEGIN:STANDARD
TZOFFSETFROM:-0500
TZOFFSETTO:-0600
TZNAME:CST
DTSTART:20241103T070000
END:STANDARD
BEGIN:DAYLIGHT
TZOFFSETFROM:-0600
TZOFFSETTO:-0500
TZNAME:CDT
DTSTART:20250309T080000
END:DAYLIGHT
BEGIN:STANDARD
TZOFFSETFROM:-0500
TZOFFSETTO:-0600
TZNAME:CST
DTSTART:20251102T070000
END:STANDARD
BEGIN:DAYLIGHT
TZOFFSETFROM:-0600
TZOFFSETTO:-0500
TZNAME:CDT
DTSTART:20260308T080000
END:DAYLIGHT
BEGIN:STANDARD
TZOFFSETFROM:-0500
TZOFFSETTO:-0600
TZNAME:CST
DTSTART:20261101T070000
END:STANDARD
END:VTIMEZONE
BEGIN:VEVENT
DTSTART;TZID=America/Chicago:20251023T183000
DTEND;TZID=America/Chicago:20251023T183000
DTSTAMP:20260423T103147
CREATED:20251002T154628Z
LAST-MODIFIED:20251002T154753Z
UID:10000090-1761244200-1761244200@gatewaytheater.org
SUMMARY:David Meulemans 65th Birthday Benefit for Chicago Cabaret Professionals
DESCRIPTION:This event includes cocktails and hors d’ouvres\, a full show with 12 of Chicago’s Cabaret Stars\, and a birthday cake and champaign reception afterwards.  All proceeds will benefit Chicago Cabaret Professionals.  Hosted by David Meulemans.  This “Toast or Roast” format will find Beckie Menzie on the piano and Irwin Berkowitz on percussion.  Join us for this elegant evening raising funds to support the art of Cabaret in Chicago.   \n \nCocktails and hors d’ouvres 6:30PM \nShow 8:00PM \nCake & champagne reception follows
URL:https://gatewaytheater.org/event/david-meulemans-65th-birthday-benefit-for-chicago-cabaret-professionals-david-meulemans-65th-birthday-benefit-for-chicago-cabaret-professionals/
ATTACH;FMTTYPE=image/jpeg:https://gatewaytheater.org/wp-content/uploads/2025/10/5d091f0065b63b90bcfb1457090c8d6f.jpg
END:VEVENT
END:VCALENDAR