BEGIN:VCALENDAR
VERSION:2.0
PRODID:-//Gateway Theater - ECPv6.15.18//NONSGML v1.0//EN
CALSCALE:GREGORIAN
METHOD:PUBLISH
X-ORIGINAL-URL:https://gatewaytheater.org
X-WR-CALDESC:Events for Gateway Theater
REFRESH-INTERVAL;VALUE=DURATION:PT1H
X-Robots-Tag:noindex
X-PUBLISHED-TTL:PT1H
BEGIN:VTIMEZONE
TZID:America/Chicago
BEGIN:DAYLIGHT
TZOFFSETFROM:-0600
TZOFFSETTO:-0500
TZNAME:CDT
DTSTART:20240310T080000
END:DAYLIGHT
BEGIN:STANDARD
TZOFFSETFROM:-0500
TZOFFSETTO:-0600
TZNAME:CST
DTSTART:20241103T070000
END:STANDARD
BEGIN:DAYLIGHT
TZOFFSETFROM:-0600
TZOFFSETTO:-0500
TZNAME:CDT
DTSTART:20250309T080000
END:DAYLIGHT
BEGIN:STANDARD
TZOFFSETFROM:-0500
TZOFFSETTO:-0600
TZNAME:CST
DTSTART:20251102T070000
END:STANDARD
BEGIN:DAYLIGHT
TZOFFSETFROM:-0600
TZOFFSETTO:-0500
TZNAME:CDT
DTSTART:20260308T080000
END:DAYLIGHT
BEGIN:STANDARD
TZOFFSETFROM:-0500
TZOFFSETTO:-0600
TZNAME:CST
DTSTART:20261101T070000
END:STANDARD
END:VTIMEZONE
BEGIN:VEVENT
DTSTART;TZID=America/Chicago:20251017T200000
DTEND;TZID=America/Chicago:20251017T200000
DTSTAMP:20260423T055705
CREATED:20250522T191623Z
LAST-MODIFIED:20250626T230052Z
UID:10000040-1760731200-1760731200@gatewaytheater.org
SUMMARY:Daniel Habif - Ascender World Tour 2025 – RESCHEDULED to 10/17/2025
DESCRIPTION:► DATE:  Friday\, October 17th\, 2025  TIME:  08:00 p.m.\n\n►  Copernicus Center Doors Open:  6:30 p.m.  •  Theater Doors Open:  7:00 p.m.  •  All ages welcome\n\n\n\n\n\n\n\n\n\n\n\n\n\n\n\n\n\n\n\nTickets: $49.99 – $179.99\nMeet & Greet: TBD \n\n\n\n\n\n\n\n\n\n\n\n\n\n\n\nDaniel Habif’s Chicago Show Has Been Rescheduled\nThe show originally scheduled in Chicago for May 25\, 2025 has been rescheduled to Friday\, October 17\, 2025\, due to circumstances beyond the artist’s control.\nYour tickets will remain valid for the new date\, and no further action is required on your part.\nIf you are unable to attend the new date\, you have 30 days to contact Etix to request a refund or exchange.\nWe appreciate your understanding and continued support.\nEl show de Daniel Habif en Chicago ha sido reprogramado\nEl show originalmente programado en Chicago para el 25 de mayo de 2025 ha sido reprogramado para el viernes\, 17 de octubre de 2025\, debido a circunstancias fuera del control del artista.\nSus entradas seguirán siendo válidas para la nueva fecha\, y no se requiere ninguna acción adicional de su parte.\nSi no puede asistir en la nueva fecha\, dispone de 30 días para comunicarse con Etix y solicitar un reembolso o cambio.\nAgradecemos su comprensión y continuo apoyo.\n\n\n\n\n\n\n\n\n\n\n\n\nEVENT ORGANIZER Loud and Live | Contact Information: 305-456-5444 | info@loudlive.com
URL:https://gatewaytheater.org/event/daniel-habif-ascender-world-tour-2025-rescheduled-to-10-17-2025/
CATEGORIES:Concerts
ATTACH;FMTTYPE=image/jpeg:https://gatewaytheater.org/wp-content/uploads/2025/05/daniel.jpg
END:VEVENT
END:VCALENDAR