BEGIN:VCALENDAR
VERSION:2.0
PRODID:-//Gateway Theater - ECPv6.15.18//NONSGML v1.0//EN
CALSCALE:GREGORIAN
METHOD:PUBLISH
X-WR-CALNAME:Gateway Theater
X-ORIGINAL-URL:https://gatewaytheater.org
X-WR-CALDESC:Events for Gateway Theater
REFRESH-INTERVAL;VALUE=DURATION:PT1H
X-Robots-Tag:noindex
X-PUBLISHED-TTL:PT1H
BEGIN:VTIMEZONE
TZID:America/Chicago
BEGIN:DAYLIGHT
TZOFFSETFROM:-0600
TZOFFSETTO:-0500
TZNAME:CDT
DTSTART:20240310T080000
END:DAYLIGHT
BEGIN:STANDARD
TZOFFSETFROM:-0500
TZOFFSETTO:-0600
TZNAME:CST
DTSTART:20241103T070000
END:STANDARD
BEGIN:DAYLIGHT
TZOFFSETFROM:-0600
TZOFFSETTO:-0500
TZNAME:CDT
DTSTART:20250309T080000
END:DAYLIGHT
BEGIN:STANDARD
TZOFFSETFROM:-0500
TZOFFSETTO:-0600
TZNAME:CST
DTSTART:20251102T070000
END:STANDARD
BEGIN:DAYLIGHT
TZOFFSETFROM:-0600
TZOFFSETTO:-0500
TZNAME:CDT
DTSTART:20260308T080000
END:DAYLIGHT
BEGIN:STANDARD
TZOFFSETFROM:-0500
TZOFFSETTO:-0600
TZNAME:CST
DTSTART:20261101T070000
END:STANDARD
END:VTIMEZONE
BEGIN:VEVENT
DTSTART;TZID=America/Chicago:20251011T190000
DTEND;TZID=America/Chicago:20251011T210000
DTSTAMP:20260423T055733
CREATED:20251002T153419Z
LAST-MODIFIED:20251002T153419Z
UID:10000089-1760209200-1760216400@gatewaytheater.org
SUMMARY:KONCERT „Swoje se myśli\, czyli Tischner nie tylko po góralsku"
DESCRIPTION:► DATE:  Saturday\, October 11\, 2025  TIME:  07:00pm to 09:00pm \n\n\n\n\n\n\n\n\n\n\n\n►  Copernicus Center Doors Open:  06:00pm  •  All ages welcome\n\n\n\n\n\n\n\n\n\n\n \n\n\n\n\n\n\n\nWSTĘP WOLNY.\nWYMAGANA WCZEŚNIEJSZA REJESTRACJA. \n\n\n\n\n\n\n\n\n\n\n\n\n\n\n\n\n\n\n\nRok 2025 został ogłoszony przez Senat Rzeczypospolitej Polskiej Rokiem ks. prof. Józefa Tischnera – wybitnego filozofa\, duszpasterza i nauczyciela wolności. Z tej okazji zapraszamy na wyjątkowy koncert “Swoje se myśli\, czyli Tischner nie tylko po góralsku”\, który przybliży jego sposób myślenia\, poczucie humoru i wiarę w człowieka.\nTo będzie wieczór pełen mądrości\, muzyki i dobrej energii. Na scenie zabrzmią słowa i dźwięki\, które – jak sam Tischner – potrafią wzruszyć\, rozśmieszyć i skłonić do refleksji. Usłyszymy opowieści o wolności\, spotkaniu z drugim człowiekiem\, o Bogu i o górach\, które ks. Tischner kochał całym sercem. \nPrzyjdź\, pomyśl\, pośmiej się i… pośpiewaj po polsku. \nTischnerowska pogoda ducha gwarantowana! \nKoncert „Swoje se myśli\, czyli Tischner nie tylko po góralsku”\, to przedsięwzięcie artystyczne\, którego treść i forma budują przekaz bliski osobowości i sposobowi widzenia świata przez ks. Józefa Tischnera. Równie ważny jest fakt\, że Tischnerowi udało się tego wszystkiego dokonać nie z pozycji ex cathedra\, lecz wręcz przeciwnie – w dialogu pełnym zrozumienia i najgłębszej mądrości\, nasyconym lekkością i ozdrowieńczym humorem i przede wszystkim otwartością na innych ludzi. I właśnie taka postawa wyznacza formę i charakter koncertu\, w zgodzie z podejściem samego Tischnera\, który nigdy nie patrzył “z góry na ludzi i sprawy”. Koncert służy popularyzacji dorobku ks. prof. Józefa Tischnera przybliżając jego postać i myśli\, także jego sposobu postrzegania świata\, pełnego poczucia humoru oraz serdeczności\, jaką darzył ludzi. \nW koncercie wezmą udział uznani artyści scen polskich: m.in. Piotr Cyrwus\, Trebunie – Tutki oraz zespół wokalno-instrumentalny pod kierownictwem Krzysztofa Odrobiny. Gościem specjalnym koncertu będzie Kazimierz Tischner\, brat ks. prof. Józefa Tichnera – Prezes Stowarzyszenia Drogami Tischnera. \nNa koncert złożą się trzy wymiary:\n1) wokaliści i muzycy (12 utworów słowno-muzycznych)\, wystąpią Trebunie – Tutki\, Weronika Skalska\, Natalia Szczypuła\, Hanka Wójciak\, Piotr Szewczyk\, Rafał Żur oraz zespół instrumentalny pod kierownictwem Krzysztofa Odrobiny w składzie: w składzie: \nKrzysztof Odrobina\, Kosma Kalamarz\, Maciej Gruchacz\, Michał Dziewiński\, Sylwester Malinowski\, Bogusław Zięba\, Bartosz Pernal\, Bartłomiej Noszka\, Tomasz Adamczyk\, \nSONOS Kwartet w składzie: Marta Huget – Skiba\, Filip Huget\, Anna Grzybała\, Joanna Urbańska-Mikszta \n2) narrator-aktor prowadzący koncert – Piotr Cyrwus\, którego wypowiedzi są zbudowane z tekstów zaczerpniętych z twórczości Tischnera. Po części także tych\, które zostały napisane w gwarze góralskiej; \n3) plan multimedialny/oprawa wizualna koncertu: wyświetlany na ekranie w głębi sceny materiał filmowy zarejestrowany w miejscach\, które wyznaczyły najważniejsze etapy życiowej i twórczej drogi J.Tischnera. Przewodnikiem po tych miejscach oraz związanych z nimi ludziach będzie Kazimierz Tischner – brat ks. Tischnera. Plan multimedialny zostanie wzbogacony o materiały archiwalne\, fotograficzne i filmowe\, z udziałem ks. Tischnera. \nScenariusz i reżyseria: Joanna Zając \nKoncert pod Honorowym Patronatem Pani Reginy Jurkowskiej Konsul Generalnej RP w Chicago. \nZadanie dofinansowane w ramach sprawowania opieki Senatu Rzeczypospolitej Polskiej nad Polonią i Polakami za granicą w 2025 roku. \n\n\n\n\n\n\n\n\n\n\n\n\n\n\n\n\n\n\n\nCONTACT INFORMATION: info@copernicuscenter.org | 773-313-9157 \n\n\n\n\n\n\n\n\n\n\n\n\n \n\n\n\n\n\n\n\n\nBOX OFFICE HOURS: \nMonday – Friday: 10.00 am – 02.00 pm \nSaturday & Sunday 3:00 – 5:00 pm \nNot open on Holidays \nFor Ticket & Box Office inquiries please call 773-205-0044 or email boxoffice@copernicuscenter.org \n\n\n\n\n\n\n\n\n\n\n\n\nCopernicus Center Event Patrons:\n“An inherent risk of exposure to COVID exists in any place where people gather. COVID is an extremely contagious disease that can lead to severe illness and death. You assume all risks\, hazards\, and dangers arising from or relating in any way to the risk of contracting COVID or any other communicable disease or illness\, or a virus\, bacteria\, or other pathogen capable of causing a communicable disease or illness\, while attending the event or otherwise utilizing Copernicus Foundation’s services and/or entering onto its premises\, whether occurring before\, during\, or after the event. You further voluntarily release and waive all claims and potential claims against etix\, Copernicus Foundation and their respective affiliates\, subsidiaries\, sponsors\, successors and assigns and their respective officers\, employees\, contractors\, consultants and agents\, Event Organizers\, the Venue\, the Presenter\, the Event\, the Event Producers\, and their respective affiliates\, subsidiaries\, sponsors\, successors and assigns and their respective officers\, employees\, contractors\, consultants and agents\, in connection with exposure\, infection\, and/or spread of COVID or another communicable disease or illness\, bacteria\, virus\, or pathogen related to your attendance at the event and/or utilization of Copernicus Foundation’s services and premises. We reserve the right to unilaterally make changes to health protocols according to updated public health guidance and law. By continuing\, you agree to these terms.”
URL:https://gatewaytheater.org/event/koncert-swoje-se-mysli-czyli-tischner-nie-tylko-po-goralsku/
CATEGORIES:Concerts
ATTACH;FMTTYPE=image/jpeg:https://gatewaytheater.org/wp-content/uploads/2025/10/tischnernew.jpg
END:VEVENT
END:VCALENDAR