BEGIN:VCALENDAR
VERSION:2.0
PRODID:-//Gateway Theater - ECPv6.15.18//NONSGML v1.0//EN
CALSCALE:GREGORIAN
METHOD:PUBLISH
X-WR-CALNAME:Gateway Theater
X-ORIGINAL-URL:https://gatewaytheater.org
X-WR-CALDESC:Events for Gateway Theater
REFRESH-INTERVAL;VALUE=DURATION:PT1H
X-Robots-Tag:noindex
X-PUBLISHED-TTL:PT1H
BEGIN:VTIMEZONE
TZID:America/Chicago
BEGIN:DAYLIGHT
TZOFFSETFROM:-0600
TZOFFSETTO:-0500
TZNAME:CDT
DTSTART:20240310T080000
END:DAYLIGHT
BEGIN:STANDARD
TZOFFSETFROM:-0500
TZOFFSETTO:-0600
TZNAME:CST
DTSTART:20241103T070000
END:STANDARD
BEGIN:DAYLIGHT
TZOFFSETFROM:-0600
TZOFFSETTO:-0500
TZNAME:CDT
DTSTART:20250309T080000
END:DAYLIGHT
BEGIN:STANDARD
TZOFFSETFROM:-0500
TZOFFSETTO:-0600
TZNAME:CST
DTSTART:20251102T070000
END:STANDARD
BEGIN:DAYLIGHT
TZOFFSETFROM:-0600
TZOFFSETTO:-0500
TZNAME:CDT
DTSTART:20260308T080000
END:DAYLIGHT
BEGIN:STANDARD
TZOFFSETFROM:-0500
TZOFFSETTO:-0600
TZNAME:CST
DTSTART:20261101T070000
END:STANDARD
END:VTIMEZONE
BEGIN:VEVENT
DTSTART;TZID=America/Chicago:20251010T190000
DTEND;TZID=America/Chicago:20251010T190000
DTSTAMP:20260423T055745
CREATED:20250522T191320Z
LAST-MODIFIED:20250626T230032Z
UID:10000038-1760122800-1760122800@gatewaytheater.org
SUMMARY:Agnieszka Chylińska „Kiedyś do Ciebie wrócę” Ostatni koncert na BIS w USA
DESCRIPTION:► DATE:  October 10th\, 2025  TIME:  7:00 p.m.\n► Copernicus Center Doors Open:  5:30 p.m.  • Theater Doors Open: 6:30 p.m.\n\n► All ages welcome\n\n\n\n\n\n\n\n\n\n\n\n\n\n\n\nIMPORTANT:\nTickets are exclusively available online. \n\n\n\n\n\n\n\n\nTickets: $80 – $160 \n\n\n\n\n\n\n\n\n\nZapraszamy na wyjątkowe koncerty Agnieszki Chylińskiej w USA!\nJedna z najbardziej uznanych i cenionych polskich artystek wystąpi dla Was już w październiku 2025 w ramach trasy „Kiedyś do Ciebie wrócę” z okazji 30-lecia na scenie! Bilety dostępne na stronie –> BILETY\nOSTATNI KONCERT NA BIS w USA !
URL:https://gatewaytheater.org/event/agnieszka-chylinska-kiedys-do-ciebie-wroce-ostatni-koncert-na-bis-w-usa/
CATEGORIES:Concerts
ATTACH;FMTTYPE=image/jpeg:https://gatewaytheater.org/wp-content/uploads/2025/05/10.10.2025-Agnieszka-Chylinska.jpg
END:VEVENT
END:VCALENDAR