BEGIN:VCALENDAR
VERSION:2.0
PRODID:-//Gateway Theater - ECPv6.15.18//NONSGML v1.0//EN
CALSCALE:GREGORIAN
METHOD:PUBLISH
X-ORIGINAL-URL:https://gatewaytheater.org
X-WR-CALDESC:Events for Gateway Theater
REFRESH-INTERVAL;VALUE=DURATION:PT1H
X-Robots-Tag:noindex
X-PUBLISHED-TTL:PT1H
BEGIN:VTIMEZONE
TZID:America/Chicago
BEGIN:DAYLIGHT
TZOFFSETFROM:-0600
TZOFFSETTO:-0500
TZNAME:CDT
DTSTART:20240310T080000
END:DAYLIGHT
BEGIN:STANDARD
TZOFFSETFROM:-0500
TZOFFSETTO:-0600
TZNAME:CST
DTSTART:20241103T070000
END:STANDARD
BEGIN:DAYLIGHT
TZOFFSETFROM:-0600
TZOFFSETTO:-0500
TZNAME:CDT
DTSTART:20250309T080000
END:DAYLIGHT
BEGIN:STANDARD
TZOFFSETFROM:-0500
TZOFFSETTO:-0600
TZNAME:CST
DTSTART:20251102T070000
END:STANDARD
BEGIN:DAYLIGHT
TZOFFSETFROM:-0600
TZOFFSETTO:-0500
TZNAME:CDT
DTSTART:20260308T080000
END:DAYLIGHT
BEGIN:STANDARD
TZOFFSETFROM:-0500
TZOFFSETTO:-0600
TZNAME:CST
DTSTART:20261101T070000
END:STANDARD
END:VTIMEZONE
BEGIN:VEVENT
DTSTART;TZID=America/Chicago:20251004T200000
DTEND;TZID=America/Chicago:20251004T200000
DTSTAMP:20260423T103145
CREATED:20250724T222645Z
LAST-MODIFIED:20250724T230056Z
UID:10000070-1759608000-1759608000@gatewaytheater.org
SUMMARY:Ebi
DESCRIPTION:► DATE:  October 4th\, 2025  TIME:  8:00 p.m.\n\n\n\n\n\n\n\n\n\n\n\n\n► Main Doors Open: 7:00 p.m. | Theater Doors Open: 7:30 p.m.\n\n► 8 years and up\n\n\n\n\n\n\n\n\n\n\n\n\n\n\n\n\n\nIMPORTANT:\nTickets are exclusively available online. \n\n\n\n\n\n\n\n\n\n\nTickets: $90 – $275 \n\n\n\n\n\n\n\n\n\n\n\n\n\n\n\n\n\n\n\n\n\n\n\n\n\n\n\n\n\n\n An evening of elegance\, passion\, and music awaits as Ebi takes the stage in Chicago on October 4\, 2025\, at the iconic Copernicus Center.\nA true legend in the world of Persian music\, Ebi’s voice has transcended borders and generations — and now Chicago audiences have the rare opportunity to experience his artistry in person.\nThe Copernicus is renowned for its architectural beauty and world-class acoustics. With its intimate yet grand design\, it’s the perfect venue for an artist whose music resonates deeply with the soul. Every note\, every lyric\, will be brought to life in breathtaking clarity.\nAudiences can expect a thoughtfully curated performance\, featuring Ebi’s most beloved anthems as well as newer songs that have quickly become staples in his live shows. From moments of quiet reflection to sweeping choruses sung in unison\, this concert will be a powerful journey through music and meaning.\nWhether you’ve followed his music for decades or you’re new to the Ebi experience\, this night at Copernicus will be unforgettable. It’s more than a concert — it’s a gathering of hearts and histories
URL:https://gatewaytheater.org/event/ebi/
CATEGORIES:Concerts
ATTACH;FMTTYPE=image/jpeg:https://gatewaytheater.org/wp-content/uploads/2025/07/Ebi-Copernicus-Event-Menu-300x200-1.jpg
END:VEVENT
END:VCALENDAR